BEGIN:VCALENDAR
VERSION:2.0
PRODID:-//ChamberMaster//Event Calendar 2.0//EN
METHOD:PUBLISH
X-PUBLISHED-TTL:P3D
REFRESH-INTERVAL:P3D
CALSCALE:GREGORIAN
BEGIN:VEVENT
DTSTART:20231020T005500Z
DTEND:20231021T010000Z
X-MICROSOFT-CDO-ALLDAYEVENT:FALSE
SUMMARY:Wasilla Public Library "Once Upon a Spooky Night" Young Writers Contest Entry Deadline
DESCRIPTION:Dear Young Writers:\n\nWrite us a story\, and please make it spooky. We'll print your work and give you a cookie!\n\n\n\nLove\,\n\nWasilla Public Library\n\n(for real on the cookie - it rhymes and it seems like a good idea!)\n\n\n\nEntries must be 1\,000 words of less.\n\nShort stories and poetry welcome\,\n\nOpen to Mat-Su residents in grades 1-12.\n\nWinning stories will be published in The Frontiersman.
X-ALT-DESC;FMTTYPE=text/html:Dear Young Writers:<br />\n<span style="color: rgb(5\, 5\, 5)\; font-family: &quot\;Segoe UI Historic&quot\;\, &quot\;Segoe UI&quot\;\, Helvetica\, Arial\, sans-serif\; font-size: 15px\;">Write us a story\, and please make it spooky. We&#39\;ll print your work and give you a cookie!</span><br style="color: rgb(5\, 5\, 5)\; font-family: &quot\;Segoe UI Historic&quot\;\, &quot\;Segoe UI&quot\;\, Helvetica\, Arial\, sans-serif\; font-size: 15px\;" />\n<br style="color: rgb(5\, 5\, 5)\; font-family: &quot\;Segoe UI Historic&quot\;\, &quot\;Segoe UI&quot\;\, Helvetica\, Arial\, sans-serif\; font-size: 15px\;" />\n<span style="color: rgb(5\, 5\, 5)\; font-family: &quot\;Segoe UI Historic&quot\;\, &quot\;Segoe UI&quot\;\, Helvetica\, Arial\, sans-serif\; font-size: 15px\;">Love\,</span><br style="color: rgb(5\, 5\, 5)\; font-family: &quot\;Segoe UI Historic&quot\;\, &quot\;Segoe UI&quot\;\, Helvetica\, Arial\, sans-serif\; font-size: 15px\;" />\n<span style="color: rgb(5\, 5\, 5)\; font-family: &quot\;Segoe UI Historic&quot\;\, &quot\;Segoe UI&quot\;\, Helvetica\, Arial\, sans-serif\; font-size: 15px\;">Wasilla Public Library</span><br style="color: rgb(5\, 5\, 5)\; font-family: &quot\;Segoe UI Historic&quot\;\, &quot\;Segoe UI&quot\;\, Helvetica\, Arial\, sans-serif\; font-size: 15px\;" />\n<span style="color: rgb(5\, 5\, 5)\; font-family: &quot\;Segoe UI Historic&quot\;\, &quot\;Segoe UI&quot\;\, Helvetica\, Arial\, sans-serif\; font-size: 15px\;">(for real on the cookie - it rhymes and it seems like a good idea!)<br />\n<br />\nEntries must be 1\,000 words of less.<br />\nShort stories and poetry welcome\,<br />\nOpen to Mat-Su residents in grades 1-12.<br />\nWinning stories will be published in The Frontiersman.</span><br />\n&nbsp\;
LOCATION:
UID:e.3185.21228
SEQUENCE:3
DTSTAMP:20260423T144346Z
URL:https://business.wasillachamber.org/events/details/wasilla-public-library-once-upon-a-spooky-night-young-writers-contest-entry-deadline-21228
END:VEVENT

END:VCALENDAR
