BEGIN:VCALENDAR
VERSION:2.0
PRODID:-//ChamberMaster//Event Calendar 2.0//EN
METHOD:PUBLISH
X-PUBLISHED-TTL:P3D
REFRESH-INTERVAL:P3D
CALSCALE:GREGORIAN
BEGIN:VEVENT
DTSTART;VALUE=DATE:20231009
DTEND;VALUE=DATE:20231010
TRANSP:TRANSPARENT
X-MICROSOFT-CDO-ALLDAYEVENT:TRUE
SUMMARY:Wasilla Chamber Offices Closed
DESCRIPTION:Greater Wasilla Chamber of Commerce & Visitor Center will be closed for the holiday.\n\nWill resume regular office hours on Tuesday\, October 10th 2023.
X-ALT-DESC;FMTTYPE=text/html:Greater Wasilla Chamber of Commerce &amp\; Visitor Center will be closed for the holiday.<br />\nWill resume regular office hours on Tuesday\, October 10th 2023.
LOCATION:
UID:e.3185.21231
SEQUENCE:3
DTSTAMP:20260423T143835Z
URL:https://business.wasillachamber.org/events/details/wasilla-chamber-offices-closed-21231
END:VEVENT

END:VCALENDAR
