BEGIN:VCALENDAR
VERSION:2.0
PRODID:-//ChamberMaster//Event Calendar 2.0//EN
METHOD:PUBLISH
X-PUBLISHED-TTL:P3D
REFRESH-INTERVAL:P3D
CALSCALE:GREGORIAN
BEGIN:VEVENT
DTSTART;VALUE=DATE:20230904
DTEND;VALUE=DATE:20230905
TRANSP:TRANSPARENT
X-MICROSOFT-CDO-ALLDAYEVENT:TRUE
SUMMARY:Wasilla Chamber Offices Closed
DESCRIPTION:Greater Wasilla Chamber of Commerce & Visitor Center will be closed for Labor Day.
X-ALT-DESC;FMTTYPE=text/html:Greater Wasilla Chamber of Commerce &amp\; Visitor Center will be closed for Labor Day.
LOCATION:
UID:e.3185.20913
SEQUENCE:3
DTSTAMP:20260423T143931Z
URL:https://business.wasillachamber.org/events/details/wasilla-chamber-offices-closed-20913
END:VEVENT

END:VCALENDAR
