BEGIN:VCALENDAR
VERSION:2.0
PRODID:-//ChamberMaster//Event Calendar 2.0//EN
METHOD:PUBLISH
X-PUBLISHED-TTL:P3D
REFRESH-INTERVAL:P3D
CALSCALE:GREGORIAN
BEGIN:VEVENT
DTSTART:20230527T180000Z
DTEND:20230527T200000Z
X-MICROSOFT-CDO-ALLDAYEVENT:FALSE
SUMMARY:Volunteer Orientation at Mat-Su Animal Shelter
DESCRIPTION:Dog Care Volunteer Orientation!\n\n\n\nWe have our first Dog Care Orientation of 2023 - if you have been wanting to join our Volunteer Dog Care Crew\, this opportunity is for you!\n\n\n\nDog Care Volunteers assist in a variety of capacities outside of just walking our dogs - we would love to have you join our team to help us make our animals stay with us the best they can hope for!\n\n\n\nYou can apply to volunteer here
X-ALT-DESC;FMTTYPE=text/html:<span style="color: rgb(5\, 5\, 5)\; font-family: &quot\;Segoe UI Historic&quot\;\, &quot\;Segoe UI&quot\;\, Helvetica\, Arial\, sans-serif\; font-size: 15px\;">Dog Care Volunteer Orientation!</span><br style="color: rgb(5\, 5\, 5)\; font-family: &quot\;Segoe UI Historic&quot\;\, &quot\;Segoe UI&quot\;\, Helvetica\, Arial\, sans-serif\; font-size: 15px\;" />\n<br style="color: rgb(5\, 5\, 5)\; font-family: &quot\;Segoe UI Historic&quot\;\, &quot\;Segoe UI&quot\;\, Helvetica\, Arial\, sans-serif\; font-size: 15px\;" />\n<span style="color: rgb(5\, 5\, 5)\; font-family: &quot\;Segoe UI Historic&quot\;\, &quot\;Segoe UI&quot\;\, Helvetica\, Arial\, sans-serif\; font-size: 15px\;">We have our first Dog Care Orientation of 2023 - if you have been wanting to join our Volunteer Dog Care Crew\, this opportunity is for you!</span><br style="color: rgb(5\, 5\, 5)\; font-family: &quot\;Segoe UI Historic&quot\;\, &quot\;Segoe UI&quot\;\, Helvetica\, Arial\, sans-serif\; font-size: 15px\;" />\n<br style="color: rgb(5\, 5\, 5)\; font-family: &quot\;Segoe UI Historic&quot\;\, &quot\;Segoe UI&quot\;\, Helvetica\, Arial\, sans-serif\; font-size: 15px\;" />\n<span style="color: rgb(5\, 5\, 5)\; font-family: &quot\;Segoe UI Historic&quot\;\, &quot\;Segoe UI&quot\;\, Helvetica\, Arial\, sans-serif\; font-size: 15px\;">Dog Care Volunteers assist in a variety of capacities outside of just walking our dogs - we would love to have you join our team to help us make our animals stay with us the best they can hope for!</span><br style="color: rgb(5\, 5\, 5)\; font-family: &quot\;Segoe UI Historic&quot\;\, &quot\;Segoe UI&quot\;\, Helvetica\, Arial\, sans-serif\; font-size: 15px\;" />\n<br style="color: rgb(5\, 5\, 5)\; font-family: &quot\;Segoe UI Historic&quot\;\, &quot\;Segoe UI&quot\;\, Helvetica\, Arial\, sans-serif\; font-size: 15px\;" />\n<span style="color: rgb(5\, 5\, 5)\; font-family: &quot\;Segoe UI Historic&quot\;\, &quot\;Segoe UI&quot\;\, Helvetica\, Arial\, sans-serif\; font-size: 15px\;">You can apply to volunteer <a href="https://www.governmentjobs.com/careers/matsugov/jobs/3969448/dog-care-volunteer?page=2&amp\;pagetype=jobOpportunitiesJobs&amp\;fbclid=IwAR1PUXeoQDsihg8XeXFKO97xkavtDMvK4Y9Wrw8MGrPkBd7YztZKYgz0HBM">here</a></span>
LOCATION:Mat-Su Animal Care & Regulation
UID:e.3185.20264
SEQUENCE:3
DTSTAMP:20260422T081132Z
URL:https://business.wasillachamber.org/events/details/volunteer-orientation-at-mat-su-animal-shelter-20264
END:VEVENT

END:VCALENDAR
