BEGIN:VCALENDAR
VERSION:2.0
PRODID:-//ChamberMaster//Event Calendar 2.0//EN
METHOD:PUBLISH
X-PUBLISHED-TTL:P3D
REFRESH-INTERVAL:P3D
CALSCALE:GREGORIAN
BEGIN:VEVENT
DTSTART:20240710T193000Z
DTEND:20240710T203000Z
X-MICROSOFT-CDO-ALLDAYEVENT:FALSE
SUMMARY:Virtual Workshop-Comprehensive Safety Action Plan
DESCRIPTION:The Mat-Su Borough is developing a Comprehensive Safety Action Plan for an expanded boundary of the core area (see image below) that is funded through the U.S. Department of Transportation's Safe Streets for All (SS4A) grant program.  This plan will ensure that the Mat-Su Borough is eligible to apply for future SS4A grant funding to implement projects\, develop additional planning studies\, and fund demonstration projects. The Mat-Su Borough contracted Michael Baker International to develop the plan. \n\n \nHow can you participate? \n\nWe want to hear from you! We are contacting you because you work with an organization that can provide us with valuable feedback about how to reduce serious injuries and deaths on our roads. Community input regarding specific transportation safety challenges is vital to the success of this plan. Here's how you can be involved: \n\n \n\n1.    Attend an upcoming public workshop. \n\nOver the course of plan development\, we will facilitate two virtual public workshops and three open houses (one each in Palmer\, Wasilla\, and Houston).  See details below: \n\n \n\n   Virtual Public Workshop #1: Wednesday\, July 10\, 2024 (11:30 a.m. - 12:30 p.m.)  Meeting ID: 864 7200 9983 \n\nPasscode: 657859 \n\nDirect Zoom Link \n\n   Virtual Public Workshop #2: Winter 2024 (TBD) \n\n   In Person Open House (Palmer/Wasilla/Houston): Winter 2024 (TBD) \n\n \n\n2.    Take the community safety survey. \n\nWe have launched a survey to capture your specific safety concerns for the Mat-Su Borough expanded core area. Help us reach our goal of 500+ responses! Go online to take the survey now!   \n\n \n\n3.    Explore the project website. \n\nLearn more about why we are developing this plan\, how the Safe Streets for All program addresses safety\, see existing crash data for the Mat-Su Borough expanded core area\, find out how to contact the project team\, and check out the calendar for other ways to participate at upcoming events: ss4a.matsu.gov \n\n \n\n \n\n                                                       . \n\nWhat is Safe Streets for All? \n\n \n\nSS4A is a federal grant program that provides funding to local governments to prevent deaths and serious injuries on roads. The Mat-Su Borough was a recipient of one of these grants and is using it to complete a Comprehensive Safety Action Plan for the expanded core area. \n\n \n\nWe will use the  Safe System Approach to develop this plan. This approach includes building multiple layers of protection to help prevent crashes and minimize the severity of injuries when crashes do happen. \n\n \n\nWhen complete\, the Mat-Su Borough Comprehensive Safety Action Plan will include:    \n\nA long-term strategy for improving transportation safety. \n\n         A focus on all road users including those who drive\, walk\, bike\, ride\, roll\, have a disability\, and operate commercial vehicles. \n\n         An analysis of risk factors for serious crashes \n\n         Tools to prevent future crashes. \n\n         Projects\, priorities\, partners\, and potential funding opportunities to improve safety.
X-ALT-DESC;FMTTYPE=text/html:<span style="color: rgb(34\, 34\, 34)\; font-family: Arial\, Helvetica\, sans-serif\; font-size: small\; white-space-collapse: preserve\;"><span style="font-size: 12pt\;">The Mat-Su Borough is developing a Comprehensive Safety Action Plan for an expanded boundary of the core area (see image below) that is funded through the U.S. Department of Transportation&rsquo\;s </span></span><span style="color: rgb(34\, 34\, 34)\; white-space-collapse: preserve\; font-size: 9pt\; font-family: &quot\;Segoe UI&quot\;\, sans-serif\;"><a data-saferedirecturl="https://www.google.com/url?q=https://www.transportation.gov/grants/SS4A&amp\;source=gmail&amp\;ust=1719522927728000&amp\;usg=AOvVaw1uN-hQfWXv8C548PT4U0eG" href="https://www.transportation.gov/grants/SS4A" style="color: rgb(17\, 85\, 204)\;" target="_blank"><span style="font-size: 12pt\; font-family: Calibri\, sans-serif\;">Safe Streets for All (SS4A)</span></a></span><span style="color: rgb(34\, 34\, 34)\; font-family: Arial\, Helvetica\, sans-serif\; font-size: small\; white-space-collapse: preserve\;"><span style="font-size: 12pt\;"> grant program.&nbsp\; This plan will ensure that the Mat-Su Borough is eligible to apply for future SS4A grant funding to implement projects\, develop additional planning studies\, and fund demonstration projects. The Mat-Su Borough contracted Michael Baker International to develop the plan.&nbsp\;</span></span><br />\n&nbsp\;\n<p style="color: rgb(34\, 34\, 34)\; font-family: Arial\, Helvetica\, sans-serif\; font-size: small\; margin: 0in\; vertical-align: baseline\;"><b><span style="font-size: 12pt\;">How can you participate?</span></b><span style="font-size: 12pt\;">&nbsp\;</span></p>\n\n<p style="color: rgb(34\, 34\, 34)\; font-family: Arial\, Helvetica\, sans-serif\; font-size: small\; white-space-collapse: preserve\; margin: 0in\; vertical-align: baseline\; font-kerning: none\;"><span style="font-size: 12pt\;">We want to hear from you! We are contacting you because you work with an organization that can provide us with valuable feedback about how to reduce serious injuries and deaths on our roads.&#8239\;Community input regarding specific transportation safety challenges is vital to the success of this plan. Here&rsquo\;s how<b> you</b> can be involved:</span><span style="font-size: 12pt\;">&nbsp\;</span></p>\n\n<p style="color: rgb(34\, 34\, 34)\; font-family: Arial\, Helvetica\, sans-serif\; font-size: small\; white-space-collapse: preserve\; margin: 0in\; vertical-align: baseline\; font-kerning: none\;">&nbsp\;</p>\n\n<p style="color: rgb(34\, 34\, 34)\; font-family: Arial\, Helvetica\, sans-serif\; font-size: small\; text-indent: 0in\; white-space-collapse: preserve\; margin-right: 0in\; margin-bottom: 0in\; margin-left: 0.75in\; vertical-align: baseline\; font-kerning: none\;"><span style="font-size: 14pt\;">1.<span style="font-variant-numeric: normal\; font-variant-east-asian: normal\; font-variant-alternates: normal\; font-kerning: auto\; font-optical-sizing: auto\; font-feature-settings: normal\; font-variation-settings: normal\; font-variant-position: normal\; font-stretch: normal\; font-size: 7pt\; line-height: normal\; font-family: &quot\;Times New Roman&quot\;\;">&nbsp\;&nbsp\;&nbsp\; </span></span><span style="font-size: 14pt\;">Attend an upcoming public workshop.</span><span style="font-size: 14pt\;">&nbsp\;</span></p>\n\n<p style="color: rgb(34\, 34\, 34)\; font-family: Arial\, Helvetica\, sans-serif\; font-size: small\; white-space-collapse: preserve\; margin-right: 0in\; margin-bottom: 0in\; margin-left: 0.5in\; vertical-align: baseline\; font-kerning: none\;"><span style="font-size: 12pt\;">Over the course of plan development\, we will facilitate two virtual public workshops and three open houses (one each in Palmer\, Wasilla\, and Houston).&#8239\; See details below:</span><span style="font-size: 12pt\;">&nbsp\;</span></p>\n\n<p style="color: rgb(34\, 34\, 34)\; font-family: Arial\, Helvetica\, sans-serif\; font-size: small\; white-space-collapse: preserve\; margin-right: 0in\; margin-bottom: 0in\; margin-left: 0.5in\; vertical-align: baseline\; font-kerning: none\;"><span style="font-size: 12pt\;">&nbsp\;</span></p>\n\n<p style="color: rgb(34\, 34\, 34)\; font-family: Arial\, Helvetica\, sans-serif\; font-size: small\; text-indent: 0in\; white-space-collapse: preserve\; margin-right: 0in\; margin-bottom: 0in\; margin-left: 1.25in\; vertical-align: baseline\; font-kerning: none\;"><span style="font-size: 10pt\; font-family: Wingdings\;">&sect\;<span style="font-variant-numeric: normal\; font-variant-east-asian: normal\; font-variant-alternates: normal\; font-kerning: auto\; font-optical-sizing: auto\; font-feature-settings: normal\; font-variation-settings: normal\; font-variant-position: normal\; font-stretch: normal\; font-size: 7pt\; line-height: normal\; font-family: &quot\;Times New Roman&quot\;\;">&nbsp\; </span></span><b><span style="font-size: 12pt\;">Virtual Public Workshop #1</span></b><span style="font-size: 12pt\;">: Wednesday\, July 10\, 2024 (11:30 a.m. - 12:30 p.m.)&nbsp\; Meeting ID: 864 7200 9983</span><span style="font-size: 12pt\;">&nbsp\;</span></p>\n\n<p style="color: rgb(34\, 34\, 34)\; font-family: Arial\, Helvetica\, sans-serif\; font-size: small\; white-space-collapse: preserve\; margin-right: 0in\; margin-bottom: 0in\; margin-left: 1in\; vertical-align: baseline\; font-kerning: none\;"><span style="font-size: 12pt\;">Passcode: 657859</span><span style="font-size: 12pt\;">&nbsp\;</span></p>\n\n<p style="color: rgb(34\, 34\, 34)\; font-family: Arial\, Helvetica\, sans-serif\; font-size: small\; white-space-collapse: preserve\; margin-right: 0in\; margin-bottom: 0in\; margin-left: 1in\; vertical-align: baseline\; font-kerning: none\;"><span style="font-size: 9pt\; font-family: &quot\;Segoe UI&quot\;\, sans-serif\;"><a data-saferedirecturl="https://www.google.com/url?q=https://us06web.zoom.us/meeting/register/tZIpcOuorjIjEtfpmpJ10YhjX1XABJuKNgdm?_x_zm_rtaid%3D4vKBLEX1SHKQP1_wsrPfwA.1718989803170.db026d750c23f0a87397e9fb0c6f01f6%26_x_zm_rhtaid%3D94%23/registration&amp\;source=gmail&amp\;ust=1719522927728000&amp\;usg=AOvVaw1vmRPZYCWk1vao0KxgSZFr" href="https://us06web.zoom.us/meeting/register/tZIpcOuorjIjEtfpmpJ10YhjX1XABJuKNgdm?_x_zm_rtaid=4vKBLEX1SHKQP1_wsrPfwA.1718989803170.db026d750c23f0a87397e9fb0c6f01f6&amp\;_x_zm_rhtaid=94#/registration" style="color: rgb(17\, 85\, 204)\;" target="_blank"><span style="font-size: 12pt\; font-family: Calibri\, sans-serif\;">Direct Zoom Link</span></a></span><span style="font-size: 12pt\;">&nbsp\;</span></p>\n\n<p style="color: rgb(34\, 34\, 34)\; font-family: Arial\, Helvetica\, sans-serif\; font-size: small\; text-indent: 0in\; white-space-collapse: preserve\; margin-right: 0in\; margin-bottom: 0in\; margin-left: 1.25in\; vertical-align: baseline\; font-kerning: none\;"><span style="font-size: 10pt\; font-family: Wingdings\;">&sect\;<span style="font-variant-numeric: normal\; font-variant-east-asian: normal\; font-variant-alternates: normal\; font-kerning: auto\; font-optical-sizing: auto\; font-feature-settings: normal\; font-variation-settings: normal\; font-variant-position: normal\; font-stretch: normal\; font-size: 7pt\; line-height: normal\; font-family: &quot\;Times New Roman&quot\;\;">&nbsp\; </span></span><b><span style="font-size: 12pt\;">Virtual Public Workshop #2</span></b><span style="font-size: 12pt\;">: Winter 2024 (TBD)</span><span style="font-size: 12pt\;">&nbsp\;</span></p>\n\n<p style="color: rgb(34\, 34\, 34)\; font-family: Arial\, Helvetica\, sans-serif\; font-size: small\; text-indent: 0in\; white-space-collapse: preserve\; margin-right: 0in\; margin-bottom: 0in\; margin-left: 1.25in\; vertical-align: baseline\; font-kerning: none\;"><span style="font-size: 10pt\; font-family: Wingdings\;">&sect\;<span style="font-variant-numeric: normal\; font-variant-east-asian: normal\; font-variant-alternates: normal\; font-kerning: auto\; font-optical-sizing: auto\; font-feature-settings: normal\; font-variation-settings: normal\; font-variant-position: normal\; font-stretch: normal\; font-size: 7pt\; line-height: normal\; font-family: &quot\;Times New Roman&quot\;\;">&nbsp\; </span></span><b><span style="font-size: 12pt\;">In Person Open House (Palmer/Wasilla/Houston)</span></b><span style="font-size: 12pt\;">: Winter 2024 (TBD)</span><span style="font-size: 12pt\;">&nbsp\;</span></p>\n\n<p style="color: rgb(34\, 34\, 34)\; font-family: Arial\, Helvetica\, sans-serif\; font-size: small\; white-space-collapse: preserve\; margin: 0in\; vertical-align: baseline\; font-kerning: none\;">&nbsp\;</p>\n\n<p style="color: rgb(34\, 34\, 34)\; font-family: Arial\, Helvetica\, sans-serif\; font-size: small\; text-indent: 0in\; white-space-collapse: preserve\; margin-right: 0in\; margin-bottom: 0in\; margin-left: 0.75in\; vertical-align: baseline\; font-kerning: none\;"><span style="font-size: 14pt\;">2.<span style="font-variant-numeric: normal\; font-variant-east-asian: normal\; font-variant-alternates: normal\; font-kerning: auto\; font-optical-sizing: auto\; font-feature-settings: normal\; font-variation-settings: normal\; font-variant-position: normal\; font-stretch: normal\; font-size: 7pt\; line-height: normal\; font-family: &quot\;Times New Roman&quot\;\;">&nbsp\;&nbsp\;&nbsp\; </span></span><span style="font-size: 14pt\;">Take the community safety survey.</span><span style="font-size: 14pt\;">&nbsp\;</span></p>\n\n<p style="color: rgb(34\, 34\, 34)\; font-family: Arial\, Helvetica\, sans-serif\; font-size: small\; white-space-collapse: preserve\; margin-right: 0in\; margin-bottom: 0in\; margin-left: 0.5in\; vertical-align: baseline\; font-kerning: none\;"><span style="font-size: 12pt\;">We have launched a survey to capture your specific safety concerns for the Mat-Su Borough expanded core area. Help us reach our goal of 500+ responses!&#8239\;Go online to </span><span style="font-size: 9pt\; font-family: &quot\;Segoe UI&quot\;\, sans-serif\;"><a data-saferedirecturl="https://www.google.com/url?q=https://survey123.arcgis.com/share/3f44fe80920b4fc4b5275d0b9e80ea53?portalUrl%3Dhttps://MSB.maps.arcgis.com&amp\;source=gmail&amp\;ust=1719522927728000&amp\;usg=AOvVaw0xFpmaNXM9tOSHPUiQ_Rm3" href="https://survey123.arcgis.com/share/3f44fe80920b4fc4b5275d0b9e80ea53?portalUrl=https://MSB.maps.arcgis.com" style="color: rgb(17\, 85\, 204)\;" target="_blank"><span style="font-size: 12pt\; font-family: Calibri\, sans-serif\;">take the survey</span></a></span><span style="font-size: 12pt\;"> now!&nbsp\;<span style="color: red\;">&nbsp\;</span></span><span style="font-size: 12pt\; color: red\;">&nbsp\;</span></p>\n\n<p style="color: rgb(34\, 34\, 34)\; font-family: Arial\, Helvetica\, sans-serif\; font-size: small\; white-space-collapse: preserve\; margin-right: 0in\; margin-bottom: 0in\; margin-left: 0.5in\; vertical-align: baseline\; font-kerning: none\;">&nbsp\;</p>\n\n<p style="color: rgb(34\, 34\, 34)\; font-family: Arial\, Helvetica\, sans-serif\; font-size: small\; text-indent: 0in\; white-space-collapse: preserve\; margin-right: 0in\; margin-bottom: 0in\; margin-left: 0.75in\; vertical-align: baseline\; font-kerning: none\;"><span style="font-size: 14pt\;">3.<span style="font-variant-numeric: normal\; font-variant-east-asian: normal\; font-variant-alternates: normal\; font-kerning: auto\; font-optical-sizing: auto\; font-feature-settings: normal\; font-variation-settings: normal\; font-variant-position: normal\; font-stretch: normal\; font-size: 7pt\; line-height: normal\; font-family: &quot\;Times New Roman&quot\;\;">&nbsp\;&nbsp\;&nbsp\; </span></span><span style="font-size: 14pt\;">Explore the project website.</span><span style="font-size: 14pt\;">&nbsp\;</span></p>\n\n<p style="color: rgb(34\, 34\, 34)\; font-family: Arial\, Helvetica\, sans-serif\; font-size: small\; white-space-collapse: preserve\; margin-right: 0in\; margin-bottom: 0in\; margin-left: 0.5in\; vertical-align: baseline\; font-kerning: none\;"><span style="font-size: 12pt\;">Learn more about why we are developing this plan\, how the Safe Streets for All program addresses safety\, see existing crash data for the Mat-Su Borough expanded core area\, find out how to contact the project team\, and check out the calendar for other ways to participate at upcoming events:<span style="color: red\;"> </span></span><span style="font-size: 9pt\; font-family: &quot\;Segoe UI&quot\;\, sans-serif\;"><a data-saferedirecturl="https://www.google.com/url?q=https://ss4a.matsugov.us/&amp\;source=gmail&amp\;ust=1719522927728000&amp\;usg=AOvVaw1jj6PPGAXmUc8yqIRSOkUH" href="https://ss4a.matsugov.us/" style="color: rgb(17\, 85\, 204)\;" target="_blank"><span style="font-size: 12pt\; font-family: Calibri\, sans-serif\;">ss4a.matsu.gov</span></a></span><span style="font-size: 12pt\;">&nbsp\;</span></p>\n\n<p style="color: rgb(34\, 34\, 34)\; font-family: Arial\, Helvetica\, sans-serif\; font-size: small\; white-space-collapse: preserve\; margin-right: 0in\; margin-bottom: 0in\; margin-left: 0.5in\; vertical-align: baseline\; font-kerning: none\;"><span style="font-size: 12pt\; color: red\;">&nbsp\;</span></p>\n\n<p style="color: rgb(34\, 34\, 34)\; font-family: Arial\, Helvetica\, sans-serif\; font-size: small\; white-space-collapse: preserve\; margin-right: 0in\; margin-bottom: 0in\; margin-left: 0.5in\; vertical-align: baseline\; font-kerning: none\;"><span style="font-size: 12pt\; color: red\;">&nbsp\;</span></p>\n\n<p style="color: rgb(34\, 34\, 34)\; font-family: Arial\, Helvetica\, sans-serif\; font-size: small\; white-space-collapse: preserve\; margin: 0in\; vertical-align: baseline\; font-kerning: none\;"><b><span style="font-size: 12pt\; font-family: &quot\;Calibri Light&quot\;\, sans-serif\; color: rgb(68\, 114\, 196)\;">&hellip\;&hellip\;&hellip\;&hellip\;&hellip\;&hellip\;&hellip\;&hellip\;&hellip\;&hellip\;&hellip\;&hellip\;&hellip\;&hellip\;&hellip\;&hellip\;&hellip\;&hellip\;&hellip\;&hellip\;&hellip\;&hellip\;&hellip\;&hellip\;&hellip\;&hellip\;&hellip\;&hellip\;&hellip\;&hellip\;<wbr />&hellip\;&hellip\;&hellip\;&hellip\;&hellip\;&hellip\;&hellip\;&hellip\;&hellip\;&hellip\;&hellip\;&hellip\;&hellip\;&hellip\;&hellip\;&hellip\;&hellip\;&hellip\;&hellip\;&hellip\;&hellip\;&hellip\;&hellip\;&hellip\;&hellip\;.</span></b><span style="font-size: 12pt\; font-family: &quot\;Calibri Light&quot\;\, sans-serif\; color: rgb(68\, 114\, 196)\;">&nbsp\;</span></p>\n\n<p style="color: rgb(34\, 34\, 34)\; font-family: Arial\, Helvetica\, sans-serif\; font-size: small\; white-space-collapse: preserve\; margin: 0in\; vertical-align: baseline\; font-kerning: none\;"><b><span style="font-size: 12pt\;">What is Safe Streets for All?</span></b><span style="font-size: 12pt\;">&nbsp\;</span></p>\n\n<p style="color: rgb(34\, 34\, 34)\; font-family: Arial\, Helvetica\, sans-serif\; font-size: small\; white-space-collapse: preserve\; margin: 0in\; vertical-align: baseline\; font-kerning: none\;"><span style="font-size: 12pt\;">&nbsp\;</span></p>\n\n<p style="color: rgb(34\, 34\, 34)\; font-family: Arial\, Helvetica\, sans-serif\; font-size: small\; white-space-collapse: preserve\; margin: 0in\; vertical-align: baseline\; font-kerning: none\;"><span style="font-size: 9pt\; font-family: &quot\;Segoe UI&quot\;\, sans-serif\;"><a data-saferedirecturl="https://www.google.com/url?q=https://www.transportation.gov/grants/SS4A&amp\;source=gmail&amp\;ust=1719522927728000&amp\;usg=AOvVaw1uN-hQfWXv8C548PT4U0eG" href="https://www.transportation.gov/grants/SS4A" style="color: rgb(17\, 85\, 204)\;" target="_blank"><span style="font-size: 12pt\; font-family: Calibri\, sans-serif\;">SS4A</span></a></span><span style="font-size: 12pt\;"> is a federal grant program that provides funding to local governments to prevent deaths and serious injuries on roads. The Mat-Su Borough was a recipient of one of these grants and is using it to complete a Comprehensive Safety Action Plan for the expanded core area.</span><span style="font-size: 12pt\;">&nbsp\;</span></p>\n\n<p style="color: rgb(34\, 34\, 34)\; font-family: Arial\, Helvetica\, sans-serif\; font-size: small\; white-space-collapse: preserve\; margin: 0in\; vertical-align: baseline\; font-kerning: none\;"><span style="font-size: 12pt\;">&nbsp\;</span></p>\n\n<p style="color: rgb(34\, 34\, 34)\; font-family: Arial\, Helvetica\, sans-serif\; font-size: small\; white-space-collapse: preserve\; margin: 0in\; vertical-align: baseline\; font-kerning: none\;"><span style="font-size: 12pt\;">We will use the </span> <span style="font-size: 9pt\; font-family: &quot\;Segoe UI&quot\;\, sans-serif\;"><a data-saferedirecturl="https://www.google.com/url?q=https://www.transportation.gov/NRSS/SafeSystem&amp\;source=gmail&amp\;ust=1719522927728000&amp\;usg=AOvVaw0snsJdv2HlEaO4VMW7fScX" href="https://www.transportation.gov/NRSS/SafeSystem" style="color: rgb(17\, 85\, 204)\;" target="_blank"><span style="font-size: 12pt\; font-family: Calibri\, sans-serif\;">Safe System Approach</span></a></span><span style="font-size: 12pt\;"> to develop this plan. This approach includes building multiple layers of protection to help prevent crashes and minimize the severity of injuries when crashes do happen.</span><span style="font-size: 12pt\;">&nbsp\;</span></p>\n\n<p style="color: rgb(34\, 34\, 34)\; font-family: Arial\, Helvetica\, sans-serif\; font-size: small\; white-space-collapse: preserve\; margin: 0in\; vertical-align: baseline\; font-kerning: none\;"><span style="font-size: 12pt\;">&nbsp\;</span></p>\n\n<p style="color: rgb(34\, 34\, 34)\; font-family: Arial\, Helvetica\, sans-serif\; font-size: small\; white-space-collapse: preserve\; margin: 0in\; vertical-align: baseline\; font-kerning: none\;"><b><span style="font-size: 12pt\;">When complete\, the Mat-Su Borough Comprehensive Safety Action Plan will include:</span></b><span style="font-size: 12pt\;">&nbsp\;</span><span style="font-size: 10pt\; font-family: Symbol\;"><span style="font-variant-numeric: normal\; font-variant-east-asian: normal\; font-variant-alternates: normal\; font-kerning: auto\; font-optical-sizing: auto\; font-feature-settings: normal\; font-variation-settings: normal\; font-variant-position: normal\; font-stretch: normal\; font-size: 7pt\; line-height: normal\; font-family: &quot\;Times New Roman&quot\;\;">&nbsp\;&nbsp\;&nbsp\;</span></span></p>\n\n<p style="color: rgb(34\, 34\, 34)\; font-family: Arial\, Helvetica\, sans-serif\; font-size: small\; text-indent: 0in\; white-space-collapse: preserve\; margin-right: 0in\; margin-bottom: 0in\; margin-left: 0.75in\; vertical-align: baseline\; font-kerning: none\;"><span style="font-size: 12pt\;">A long-term strategy for improving transportation safety.</span><span style="font-size: 12pt\;">&nbsp\;</span></p>\n\n<p style="color: rgb(34\, 34\, 34)\; font-family: Arial\, Helvetica\, sans-serif\; font-size: small\; text-indent: 0in\; white-space-collapse: preserve\; margin-right: 0in\; margin-bottom: 0in\; margin-left: 0.75in\; vertical-align: baseline\; font-kerning: none\;"><span style="font-size: 10pt\; font-family: Symbol\;">&middot\;<span style="font-variant-numeric: normal\; font-variant-east-asian: normal\; font-variant-alternates: normal\; font-kerning: auto\; font-optical-sizing: auto\; font-feature-settings: normal\; font-variation-settings: normal\; font-variant-position: normal\; font-stretch: normal\; font-size: 7pt\; line-height: normal\; font-family: &quot\;Times New Roman&quot\;\;">&nbsp\;&nbsp\;&nbsp\;&nbsp\;&nbsp\;&nbsp\;&nbsp\; </span></span><span style="font-size: 12pt\;">A focus on all road users including those who drive\, walk\, bike\, ride\, roll\, have a disability\, and operate commercial vehicles.</span><span style="font-size: 12pt\;">&nbsp\;</span></p>\n\n<p style="color: rgb(34\, 34\, 34)\; font-family: Arial\, Helvetica\, sans-serif\; font-size: small\; text-indent: 0in\; white-space-collapse: preserve\; margin-right: 0in\; margin-bottom: 0in\; margin-left: 0.75in\; vertical-align: baseline\; font-kerning: none\;"><span style="font-size: 10pt\; font-family: Symbol\;">&middot\;<span style="font-variant-numeric: normal\; font-variant-east-asian: normal\; font-variant-alternates: normal\; font-kerning: auto\; font-optical-sizing: auto\; font-feature-settings: normal\; font-variation-settings: normal\; font-variant-position: normal\; font-stretch: normal\; font-size: 7pt\; line-height: normal\; font-family: &quot\;Times New Roman&quot\;\;">&nbsp\;&nbsp\;&nbsp\;&nbsp\;&nbsp\;&nbsp\;&nbsp\; </span></span><span style="font-size: 12pt\;">An analysis of risk factors for serious crashes</span><span style="font-size: 12pt\;">&nbsp\;</span></p>\n\n<p style="color: rgb(34\, 34\, 34)\; font-family: Arial\, Helvetica\, sans-serif\; font-size: small\; text-indent: 0in\; white-space-collapse: preserve\; margin-right: 0in\; margin-bottom: 0in\; margin-left: 0.75in\; vertical-align: baseline\; font-kerning: none\;"><span style="font-size: 10pt\; font-family: Symbol\;">&middot\;<span style="font-variant-numeric: normal\; font-variant-east-asian: normal\; font-variant-alternates: normal\; font-kerning: auto\; font-optical-sizing: auto\; font-feature-settings: normal\; font-variation-settings: normal\; font-variant-position: normal\; font-stretch: normal\; font-size: 7pt\; line-height: normal\; font-family: &quot\;Times New Roman&quot\;\;">&nbsp\;&nbsp\;&nbsp\;&nbsp\;&nbsp\;&nbsp\;&nbsp\; </span></span><span style="font-size: 12pt\;">Tools to prevent future crashes.</span><span style="font-size: 12pt\;">&nbsp\;</span></p>\n\n<p style="color: rgb(34\, 34\, 34)\; font-family: Arial\, Helvetica\, sans-serif\; font-size: small\; text-indent: 0in\; white-space-collapse: preserve\; margin-right: 0in\; margin-bottom: 0in\; margin-left: 0.75in\; vertical-align: baseline\; font-kerning: none\;"><span style="font-size: 10pt\; font-family: Symbol\;">&middot\;<span style="font-variant-numeric: normal\; font-variant-east-asian: normal\; font-variant-alternates: normal\; font-kerning: auto\; font-optical-sizing: auto\; font-feature-settings: normal\; font-variation-settings: normal\; font-variant-position: normal\; font-stretch: normal\; font-size: 7pt\; line-height: normal\; font-family: &quot\;Times New Roman&quot\;\;">&nbsp\;&nbsp\;&nbsp\;&nbsp\;&nbsp\;&nbsp\;&nbsp\; </span></span><span style="font-size: 12pt\;">Projects\, priorities\, partners\, and potential funding opportunities to improve safety.</span><span style="font-size: 12pt\;">&nbsp\;</span></p>\n\n<div>&nbsp\;</div>\n
LOCATION:Virtual-Zoom
UID:e.3185.22666
SEQUENCE:3
DTSTAMP:20260425T123801Z
URL:https://business.wasillachamber.org/events/details/virtual-workshop-comprehensive-safety-action-plan-22666
END:VEVENT

END:VCALENDAR
