BEGIN:VCALENDAR
VERSION:2.0
PRODID:-//ChamberMaster//Event Calendar 2.0//EN
METHOD:PUBLISH
X-PUBLISHED-TTL:P3D
REFRESH-INTERVAL:P3D
CALSCALE:GREGORIAN
BEGIN:VEVENT
DTSTART:20230914T213000Z
DTEND:20230915T000000Z
X-MICROSOFT-CDO-ALLDAYEVENT:FALSE
SUMMARY:Valley Performing Arts Weekday Theater Classes Begin
DESCRIPTION:Valley Performing Arts is excited to announce new Weekday Theater Classes!\n\nThese are non-performance-based classes with an in-depth look at many aspects of live theater. Students will learn about the different roles on and offstage.\n\nThe first sessions begin September 14th and will be capped at 25 students per class. For more information you can contact the office at 907-373-0195 or fill out a registration form here\n\n\n\nIntro to Theater: \n\nAges 7-11\n\nThursdays 1:30PM - 2:30PM\n\n\n\nVPA Drama Club:\n\nAges 12-17\n\nThursdays 3PM-4PM
X-ALT-DESC;FMTTYPE=text/html:<p><span style="color: rgb(5\, 5\, 5)\; font-family: &quot\;Segoe UI Historic&quot\;\, &quot\;Segoe UI&quot\;\, Helvetica\, Arial\, sans-serif\; font-size: 15px\;">Valley Performing Arts is excited to announce new Weekday Theater Classes!<br />\nThese are non-performance-based classes with an in-depth look at many aspects of live theater. Students will learn about the different roles on and offstage.<br />\nThe first sessions begin September 14th and will be capped at 25 students per class. For more information you can contact the office at 907-373-0195 or fill out a registration form <a href="https://forms.office.com/pages/responsepage.aspx?id=xMYnAQDGtkWLhah7-6b8TEmSEg-Dv5NOjAOBxOCHhQxUNUhJS0JHSkNEQTAzMEU4RkZLV1E5TzMwWC4u&amp\;fbclid=IwAR37oEozmqQdEg-hJTd_adRaHJGMjzhF7NA-3kFMcQbyLfvNEzKeDPOJStY">here</a><br />\n<br />\nIntro to Theater:&nbsp\;<br />\nAges 7-11<br />\nThursdays 1:30PM - 2:30PM<br />\n<br />\nVPA Drama Club:</span></p>\n\n<p><span style="color: rgb(5\, 5\, 5)\; font-family: &quot\;Segoe UI Historic&quot\;\, &quot\;Segoe UI&quot\;\, Helvetica\, Arial\, sans-serif\; font-size: 15px\;">Ages 12-17<br />\nThursdays 3PM-4PM</span></p>\n
LOCATION:Valley Performing Arts 251 W. Swanson Ave Wasilla\, AK 99654
UID:e.3185.21116
SEQUENCE:3
DTSTAMP:20260423T143728Z
URL:https://business.wasillachamber.org/events/details/valley-performing-arts-weekday-theater-classes-begin-21116
END:VEVENT

END:VCALENDAR
