BEGIN:VCALENDAR
VERSION:2.0
PRODID:-//ChamberMaster//Event Calendar 2.0//EN
METHOD:PUBLISH
X-PUBLISHED-TTL:P3D
REFRESH-INTERVAL:P3D
CALSCALE:GREGORIAN
BEGIN:VEVENT
DTSTART:20230122T230000Z
DTEND:20230123T000000Z
X-MICROSOFT-CDO-ALLDAYEVENT:FALSE
SUMMARY:Valley Performing Arts Presents: The Lifespan of a Fact
DESCRIPTION:Valley Performing Arts Presents The Lifespan of a Fact.\n\nProduced through a special arrangement with Dramatists Play Services\, Inc.\n\n\n\nJim Fingal is fresh out of Harvard fact checker for a prominent but sinking New York magazine. John D'Agata is a talented writer with a transcendent essay about the suicide of a teenage boy-an essay that could save the magazine from collapse. When Jim is assign to fact check D'Agata's essay\, the two come head to head in a comedic yet gripping battle over facts versus truth.
X-ALT-DESC;FMTTYPE=text/html:Valley Performing Arts Presents The Lifespan of a Fact.<br />\nProduced through a special arrangement with Dramatists Play Services\, Inc.<br />\n<br />\nJim Fingal is fresh out of Harvard fact checker for a prominent but sinking New York magazine. John D&#39\;Agata is a talented writer with a transcendent essay about the suicide of a teenage boy-an essay that could save the magazine from collapse. When Jim is assign to fact check D&#39\;Agata&#39\;s essay\, the two come head to head in a comedic yet gripping battle over facts versus truth.
LOCATION:Valley Performing Arts 251 W. Swanson Ave Wasilla\, AK 99654
UID:e.3185.18285
SEQUENCE:3
DTSTAMP:20260420T190220Z
URL:https://business.wasillachamber.org/events/details/valley-performing-arts-presents-the-lifespan-of-a-fact-01-22-2023-18285
END:VEVENT

END:VCALENDAR
