BEGIN:VCALENDAR
VERSION:2.0
PRODID:-//ChamberMaster//Event Calendar 2.0//EN
METHOD:PUBLISH
X-PUBLISHED-TTL:P3D
REFRESH-INTERVAL:P3D
CALSCALE:GREGORIAN
BEGIN:VEVENT
DTSTART:20231014T210000Z
DTEND:20231015T000000Z
X-MICROSOFT-CDO-ALLDAYEVENT:FALSE
SUMMARY:Used Book Sale at Wasilla Public Library
DESCRIPTION:Join Wasilla Public Library for the Second Saturday Used Book Sale October 14th from 1-4pm in the library's multi-purpose room. $5.00 per bag\, cash or check only.
X-ALT-DESC;FMTTYPE=text/html:<span style="color: rgb(34\, 34\, 34)\; font-family: Arial\, Helvetica\, sans-serif\; font-size: small\;">Join Wasilla Public Library for the Second Saturday Used Book Sale October 14th from 1-4pm in the library&#39\;s multi-purpose room. $5.00 per bag\, cash or check only.</span>
LOCATION:Wasilla Public Library 500 N. Crusey St. Wasilla\, AK 99654
UID:e.3185.21249
SEQUENCE:3
DTSTAMP:20260423T144215Z
URL:https://business.wasillachamber.org/events/details/used-book-sale-at-wasilla-public-library-21249
END:VEVENT

END:VCALENDAR
