BEGIN:VCALENDAR
VERSION:2.0
PRODID:-//ChamberMaster//Event Calendar 2.0//EN
METHOD:PUBLISH
X-PUBLISHED-TTL:P3D
REFRESH-INTERVAL:P3D
CALSCALE:GREGORIAN
BEGIN:VEVENT
DTSTART:20230114T220000Z
DTEND:20230115T010000Z
X-MICROSOFT-CDO-ALLDAYEVENT:FALSE
SUMMARY:Used Book Sale at Wasilla Public Library
DESCRIPTION:April showers bring May flowers...and lots and lots of books!\n\nJoin Wasilla Public Library for the Second Saturday Used Book Sale August 13th from 1-4pm in the library's multi-purpose room. $5.00 per bag\, cash or check only.
X-ALT-DESC;FMTTYPE=text/html:<span style="color: rgb(34\, 34\, 34)\; font-family: Arial\, Helvetica\, sans-serif\; font-size: small\;">April showers bring May flowers...and lots and lots of books!<br />\nJoin Wasilla Public Library for the Second Saturday Used Book Sale August 13th from 1-4pm in the library&#39\;s multi-purpose room. $5.00 per bag\, cash or check only.</span>
LOCATION:Wasilla Public Library 500 N. Crusey St. Wasilla\, AK 99654
UID:e.3185.18569
SEQUENCE:3
DTSTAMP:20260420T185940Z
URL:https://business.wasillachamber.org/events/details/used-book-sale-at-wasilla-public-library-18569
END:VEVENT

END:VCALENDAR
