BEGIN:VCALENDAR
VERSION:2.0
PRODID:-//ChamberMaster//Event Calendar 2.0//EN
METHOD:PUBLISH
X-PUBLISHED-TTL:P3D
REFRESH-INTERVAL:P3D
CALSCALE:GREGORIAN
BEGIN:VEVENT
DTSTART:20231101T003000Z
DTEND:20231101T020000Z
X-MICROSOFT-CDO-ALLDAYEVENT:FALSE
SUMMARY:Trunk or Treat with Kibe Lucas Team
DESCRIPTION:The Kibe Lucas Team is excited to host another Trunk or Treat!\n\nThis will be at our office on Halloween Day from 4:30-6PM.\n\nAddress below. Check out this cute video of some of our past Trunk or Treat events.\n\n\n\nCome bring your littles to collect candy and say hi to our Real Estate Team! Our address is 315 W. Nelson Ave (across from the skatepark). 10/31 from 4:30-6PM.
X-ALT-DESC;FMTTYPE=text/html:<div class="xdj266r x11i5rnm xat24cr x1mh8g0r x1vvkbs x126k92a" style="margin: 0px\; white-space-collapse: preserve\; overflow-wrap: break-word\; font-family: &quot\;Segoe UI Historic&quot\;\, &quot\;Segoe UI&quot\;\, Helvetica\, Arial\, sans-serif\; color: rgb(5\, 5\, 5)\; font-size: 15px\;">\n<div dir="auto" style="font-family: inherit\;">The Kibe Lucas Team is excited to host another Trunk or Treat!<br />\nThis will be at our office on Halloween Day from 4:30-6PM.<br />\nAddress below. Check out this cute video of some of our past Trunk or Treat events.</div>\n</div>\n\n<div class="x11i5rnm xat24cr x1mh8g0r x1vvkbs xtlvy1s x126k92a" style="margin: 0.5em 0px 0px\; white-space-collapse: preserve\; overflow-wrap: break-word\; font-family: &quot\;Segoe UI Historic&quot\;\, &quot\;Segoe UI&quot\;\, Helvetica\, Arial\, sans-serif\; color: rgb(5\, 5\, 5)\; font-size: 15px\;">\n<div dir="auto" style="font-family: inherit\;">Come bring your littles to collect candy and say hi to our Real Estate Team! Our address is 315 W. Nelson Ave (across from the skatepark). 10/31 from 4:30-6PM.</div>\n</div>\n
LOCATION:Kibe Lucas Team 315 W. Nelson Ave Wasilla\, AK 99654
UID:e.3185.21201
SEQUENCE:3
DTSTAMP:20260423T145102Z
URL:https://business.wasillachamber.org/events/details/trunk-or-treat-with-kibe-lucas-team-21201
END:VEVENT

END:VCALENDAR
