BEGIN:VCALENDAR
VERSION:2.0
PRODID:-//ChamberMaster//Event Calendar 2.0//EN
METHOD:PUBLISH
X-PUBLISHED-TTL:P3D
REFRESH-INTERVAL:P3D
CALSCALE:GREGORIAN
BEGIN:VEVENT
DTSTART:20231021T010000Z
DTEND:20231021T030000Z
X-MICROSOFT-CDO-ALLDAYEVENT:FALSE
SUMMARY:Trick or Treat Town Festival at Primrose
DESCRIPTION:All are invited to join for the 9th Annual Trick or Treat Town Festival at Primrose Retirement Community in Wasilla on October 20th!
X-ALT-DESC;FMTTYPE=text/html:All are invited to join for the 9th Annual Trick or Treat Town Festival at Primrose Retirement Community in Wasilla on October 20th!
LOCATION:Primrose Retirement Communities 889 N. Elkhorn Dr. Wasilla\, AK 99654
UID:e.3185.21224
SEQUENCE:3
DTSTAMP:20260423T144512Z
URL:https://business.wasillachamber.org/events/details/trick-or-treat-town-festival-at-primrose-21224
END:VEVENT

END:VCALENDAR
