BEGIN:VCALENDAR
VERSION:2.0
PRODID:-//ChamberMaster//Event Calendar 2.0//EN
METHOD:PUBLISH
X-PUBLISHED-TTL:P3D
REFRESH-INTERVAL:P3D
CALSCALE:GREGORIAN
BEGIN:VEVENT
DTSTART:20230125T033000Z
DTEND:20230125T050000Z
X-MICROSOFT-CDO-ALLDAYEVENT:FALSE
SUMMARY:Trail Tales with Alaska Trails
DESCRIPTION:Alaska Trails is excited to present the Trail Tales storytelling series\, partnered with a different community trail group each event.\n\nIn the spirits of Arctic Entries\, storytellers will share seven minute stores about their trail experiences\, adventures and life in general.\n\n\n\nOur 2023 Trail Tales events will be held at the Anchorage Museum and tickets are $20.
X-ALT-DESC;FMTTYPE=text/html:Alaska Trails is excited to present the Trail Tales storytelling series\, partnered with a different community trail group each event.<br />\nIn the spirits of Arctic Entries\, storytellers will share seven minute stores about their trail experiences\, adventures and life in general.<br />\n<br />\nOur 2023 Trail Tales events will be held at the Anchorage Museum and tickets are $20.
LOCATION:Anchorage Museum 625 C St\, Anchorage\, AK 99501
UID:e.3185.18780
SEQUENCE:3
DTSTAMP:20260420T185705Z
URL:https://business.wasillachamber.org/events/details/trail-tales-with-alaska-trails-18780
END:VEVENT

END:VCALENDAR
