BEGIN:VCALENDAR
VERSION:2.0
PRODID:-//ChamberMaster//Event Calendar 2.0//EN
METHOD:PUBLISH
X-PUBLISHED-TTL:P3D
REFRESH-INTERVAL:P3D
CALSCALE:GREGORIAN
BEGIN:VEVENT
DTSTART:20231001T000000Z
DTEND:20231001T043000Z
X-MICROSOFT-CDO-ALLDAYEVENT:FALSE
SUMMARY:The Great Alaskan Beer Train
DESCRIPTION:Take a scenic journey along Turnagain Arm with the world's best designated driver - the Alaska Railroad. The Great Alaska Beer Train makes a round-trip journey from Anchorage to Portage and features an impressive assortment of local microbrews and seasonal fare from the Glacier Brewhouse.\n\n \nIncludes:\n\n     Round-trip rail\n\n     6 half pints of Glacier BrewHouse beer\n\n     Multi-course dinner by Glacier BrewHouse\n\n     Additional beers available for purchase for $5 each (cash only)\n\n     Free parking   \n\nMust be 21 years of age or older. Departs 4:00 PM from the Anchorage Depot\; returns 8:30 PM.\n\nBOOKING: Call 800.544.0552. Tickets go on sale August 16\, 2023
X-ALT-DESC;FMTTYPE=text/html:<span style="color: rgb(0\, 0\, 0)\; font-family: &quot\;Josefin Sans&quot\;\, Arial\, sans-serif\; font-size: 18px\;">Take a scenic journey along Turnagain Arm with the world&#39\;s best designated driver - the Alaska Railroad. The Great Alaska Beer Train makes a round-trip journey from Anchorage to Portage and features an impressive assortment of local microbrews and seasonal fare from the Glacier Brewhouse.</span><br />\n&nbsp\;\n<p style="box-sizing: content-box\; margin: 0px 0px 20px\; border: 0px\; outline: 0px\; vertical-align: baseline\; font-variant-numeric: inherit\; font-variant-east-asian: inherit\; font-variant-alternates: inherit\; font-stretch: inherit\; font-size: 18px\; line-height: normal\; font-family: &quot\;Josefin Sans&quot\;\, Arial\, sans-serif\; font-optical-sizing: inherit\; font-kerning: inherit\; font-feature-settings: inherit\; font-variation-settings: inherit\; color: rgb(0\, 0\, 0)\;">Includes:</p>\n\n<p style="box-sizing: content-box\; margin: 0px 0px 20px 30pt\; border: 0px\; outline: 0px\; vertical-align: baseline\; font-variant-numeric: inherit\; font-variant-east-asian: inherit\; font-variant-alternates: inherit\; font-stretch: inherit\; font-size: 18px\; line-height: normal\; font-family: &quot\;Josefin Sans&quot\;\, Arial\, sans-serif\; font-optical-sizing: inherit\; font-kerning: inherit\; font-feature-settings: inherit\; font-variation-settings: inherit\; color: rgb(0\, 0\, 0)\;">&bull\;&nbsp\;&nbsp\; &nbsp\;Round-trip rail<br style="box-sizing: content-box\;" />\n&bull\;&nbsp\;&nbsp\; &nbsp\;6 half pints of Glacier BrewHouse beer<br style="box-sizing: content-box\;" />\n&bull\;&nbsp\;&nbsp\; &nbsp\;Multi-course dinner by Glacier BrewHouse<br style="box-sizing: content-box\;" />\n&bull\;&nbsp\;&nbsp\; &nbsp\;Additional beers available for purchase for $5 each (cash only)<br style="box-sizing: content-box\;" />\n&bull\;&nbsp\;&nbsp\; &nbsp\;Free parking&nbsp\;&nbsp\;&nbsp\;</p>\n\n<p style="box-sizing: content-box\; margin: 0px 0px 20px\; border: 0px\; outline: 0px\; vertical-align: baseline\; font-variant-numeric: inherit\; font-variant-east-asian: inherit\; font-variant-alternates: inherit\; font-stretch: inherit\; font-size: 18px\; line-height: normal\; font-family: &quot\;Josefin Sans&quot\;\, Arial\, sans-serif\; font-optical-sizing: inherit\; font-kerning: inherit\; font-feature-settings: inherit\; font-variation-settings: inherit\; color: rgb(0\, 0\, 0)\;"><em style="box-sizing: content-box\; margin: 0px\; border: 0px\; outline: 0px\; vertical-align: baseline\; font-variant: inherit\; font-weight: inherit\; font-stretch: inherit\; font-size: inherit\; line-height: inherit\; font-family: inherit\; font-optical-sizing: inherit\; font-kerning: inherit\; font-feature-settings: inherit\; font-variation-settings: inherit\;">Must be 21 years of age or older. Departs 4:00 PM from the Anchorage Depot\; returns 8:30 PM.</em></p>\n\n<p style="box-sizing: content-box\; margin: 0px 0px 20px\; border: 0px\; outline: 0px\; vertical-align: baseline\; font-variant-numeric: inherit\; font-variant-east-asian: inherit\; font-variant-alternates: inherit\; font-stretch: inherit\; font-size: 18px\; line-height: normal\; font-family: &quot\;Josefin Sans&quot\;\, Arial\, sans-serif\; font-optical-sizing: inherit\; font-kerning: inherit\; font-feature-settings: inherit\; font-variation-settings: inherit\; color: rgb(0\, 0\, 0)\;"><strong style="box-sizing: content-box\; margin: 0px\; border: 0px\; outline: 0px\; vertical-align: baseline\; font-style: inherit\; font-variant: inherit\; font-stretch: inherit\; font-size: inherit\; line-height: inherit\; font-family: inherit\; font-optical-sizing: inherit\; font-kerning: inherit\; font-feature-settings: inherit\; font-variation-settings: inherit\;">BOOKING: Call 800.544.0552.&nbsp\;</strong><em style="box-sizing: content-box\; margin: 0px\; border: 0px\; outline: 0px\; vertical-align: baseline\; font-variant: inherit\; font-weight: inherit\; font-stretch: inherit\; font-size: inherit\; line-height: inherit\; font-family: inherit\; font-optical-sizing: inherit\; font-kerning: inherit\; font-feature-settings: inherit\; font-variation-settings: inherit\;">Tickets go on sale August 16\, 2023</em></p>\n<br />\n&nbsp\;
LOCATION:Departs 4:00 PM from the Anchorage Depot\; returns 8:30 PM.
UID:e.3185.20908
SEQUENCE:3
DTSTAMP:20260423T143712Z
URL:https://business.wasillachamber.org/events/details/the-great-alaskan-beer-train-20908
END:VEVENT

END:VCALENDAR
