BEGIN:VCALENDAR
VERSION:2.0
PRODID:-//ChamberMaster//Event Calendar 2.0//EN
METHOD:PUBLISH
X-PUBLISHED-TTL:P3D
REFRESH-INTERVAL:P3D
CALSCALE:GREGORIAN
BEGIN:VEVENT
DTSTART:20231005T020000Z
DTEND:20231005T030000Z
X-MICROSOFT-CDO-ALLDAYEVENT:FALSE
SUMMARY:State 6-1 Dedication in Honor of Benny Cottle
DESCRIPTION:The Mat-Su Borough Assembly passed Ordinance 23-037 in May 2023 in recognition of the service\, devotion\, and accomplishments of Benjamin (Benny) R. Cottle and will dedicate Station 6-1 in his honor by naming this station the Benny Cottle Public Safety Building. Benny was one of the original people who started the Wasilla Volunteer Fire Department and was the longest-serving member from 1960 to 2022. Benny provided the land that Station 6-5 and Cottonwood Creek Elementary School sit on today\, and he helped to secure the first new fire apparatus for the city of Wasilla. Benny was instrumental in creating the Wasilla Fire Department\, Ambulance\, and the Central Mat-Su Fire Department. Benny was involved in the hiring of the first full-time fire Chief and during his over 60 years of service\, Benny held every position in the fire department at one point. The dedication next week will honor his many years of service\, and all are invited to attend on Wednesday\, October 4 at 6 p.m. at Station 6-1\, 101 W. Swanson Ave. Wasilla.
X-ALT-DESC;FMTTYPE=text/html:<span style="color: rgb(60\, 64\, 67)\; font-family: Roboto\, sans-serif\; font-size: 14px\; letter-spacing: 0.2px\;">The Mat-Su Borough Assembly passed Ordinance 23-037 in May 2023 in recognition of the service\, devotion\, and accomplishments of Benjamin (Benny) R. Cottle and will dedicate Station 6-1 in his honor by naming this station the Benny Cottle Public Safety Building. Benny was one of the original people who started the Wasilla Volunteer Fire Department and was the longest-serving member from 1960 to 2022. Benny provided the land that Station 6-5 and Cottonwood Creek Elementary School sit on today\, and he helped to secure the first new fire apparatus for the city of Wasilla. Benny was instrumental in creating the Wasilla Fire Department\, Ambulance\, and the Central Mat-Su Fire Department. Benny was involved in the hiring of the first full-time fire Chief and during his over 60 years of service\, Benny held every position in the fire department at one point. The dedication next week will honor his many years of service\, and all are invited to attend on Wednesday\, October 4 at 6 p.m. at Station 6-1\, 101 W. Swanson Ave. Wasilla.</span>
LOCATION:Central Mat-Su Fire Department station 61 101 W. Swanson Ave Wasilla\, AK 99654
UID:e.3185.21199
SEQUENCE:3
DTSTAMP:20260423T144116Z
URL:https://business.wasillachamber.org/events/details/state-6-1-dedication-in-honor-of-benny-cottle-21199
END:VEVENT

END:VCALENDAR
