BEGIN:VCALENDAR
VERSION:2.0
PRODID:-//ChamberMaster//Event Calendar 2.0//EN
METHOD:PUBLISH
X-PUBLISHED-TTL:P3D
REFRESH-INTERVAL:P3D
CALSCALE:GREGORIAN
BEGIN:VEVENT
DTSTART:20230121T200000Z
DTEND:20230121T220000Z
X-MICROSOFT-CDO-ALLDAYEVENT:FALSE
SUMMARY:ROCK Mat-Su Community Baby Shower
DESCRIPTION:R.O.C.K. Mat-Su & Community Partners will be hosting the annual R.O.C.K. Mat-Su Community Baby Shower in Palmer!\n\nThis is a FREE event!\n\nEach year\, the baby showers evolve as the creative minds of partners find new and exciting ways to meet the four goals of the Community Baby Showers:\n\n1. Celebrate Mat-Su Families and our newest residents\n\n2. Provide an opportunity for parents to connect\n\n3. Give parents an opportunity to add new skills to their parenting toolbox\n\n4. Equity and Inclusion\n\nThis year\, we have adapted to community needs and will host smaller events throughout the Mat-Su Borough. All of the smaller dispersed events will be posted on Facebook and the Connect Mat-Su Event Calendar.\n\nThe community baby shower(s) are for Mat-Su families who are expecting or have an infant up to one year old. Every year we give away up to 200 gift bags that include approximately $100+ worth of baby essentials to help give the family the best start possible. Registration for gift bags is required. There will be 100 bags available for this event. Additionally\, we offer prize giveaways for participation in activities such as car seats\, gifts for new big brothers or sisters\, book sets\, and other prizes.\n\nHere is what we have planned so far!\n\n-Palmer/Butte | January 21st\, 2023\n\n-Wasilla/Big Lake/Houston (Spring 2023)\n\nRegister for a gift bag:\n\nhttps://www.surveymonkey.com/r/babyshower3
X-ALT-DESC;FMTTYPE=text/html:<div class="x11i5rnm xat24cr x1mh8g0r x1vvkbs xdj266r" style="margin: 0px\; overflow-wrap: break-word\; font-family: &quot\;Segoe UI Historic&quot\;\, &quot\;Segoe UI&quot\;\, Helvetica\, Arial\, sans-serif\; color: rgb(5\, 5\, 5)\; font-size: 15px\;">R.O.C.K. Mat-Su &amp\; Community Partners will be hosting the annual R.O.C.K. Mat-Su Community Baby Shower in Palmer!</div>\n\n<div class="x11i5rnm xat24cr x1mh8g0r x1vvkbs xtlvy1s" style="margin: 0.5em 0px 0px\; overflow-wrap: break-word\; font-family: &quot\;Segoe UI Historic&quot\;\, &quot\;Segoe UI&quot\;\, Helvetica\, Arial\, sans-serif\; color: rgb(5\, 5\, 5)\; font-size: 15px\;">This is a FREE event!</div>\n\n<div class="x11i5rnm xat24cr x1mh8g0r x1vvkbs xtlvy1s" style="margin: 0.5em 0px 0px\; overflow-wrap: break-word\; font-family: &quot\;Segoe UI Historic&quot\;\, &quot\;Segoe UI&quot\;\, Helvetica\, Arial\, sans-serif\; color: rgb(5\, 5\, 5)\; font-size: 15px\;">Each year\, the baby showers evolve as the creative minds of partners find new and exciting ways to meet the four goals of the Community Baby Showers:<br />\n1. Celebrate Mat-Su Families and our newest residents<br />\n2. Provide an opportunity for parents to connect<br />\n3. Give parents an opportunity to add new skills to their parenting toolbox<br />\n4. Equity and Inclusion</div>\n\n<div class="x11i5rnm xat24cr x1mh8g0r x1vvkbs xtlvy1s" style="margin: 0.5em 0px 0px\; overflow-wrap: break-word\; font-family: &quot\;Segoe UI Historic&quot\;\, &quot\;Segoe UI&quot\;\, Helvetica\, Arial\, sans-serif\; color: rgb(5\, 5\, 5)\; font-size: 15px\;">This year\, we have adapted to community needs and will host smaller events throughout the Mat-Su Borough. All of the smaller dispersed events will be posted on Facebook and the Connect Mat-Su Event Calendar.</div>\n\n<div class="x11i5rnm xat24cr x1mh8g0r x1vvkbs xtlvy1s" style="margin: 0.5em 0px 0px\; overflow-wrap: break-word\; font-family: &quot\;Segoe UI Historic&quot\;\, &quot\;Segoe UI&quot\;\, Helvetica\, Arial\, sans-serif\; color: rgb(5\, 5\, 5)\; font-size: 15px\;">The community baby shower(s) are for Mat-Su families who are expecting or have an infant up to one year old. Every year we give away up to 200 gift bags that include approximately $100+ worth of baby essentials to help give the family the best start possible. Registration for gift bags is required. There will be 100 bags available for this event. Additionally\, we offer prize giveaways for participation in activities such as car seats\, gifts for new big brothers or sisters\, book sets\, and other prizes.</div>\n\n<div class="x11i5rnm xat24cr x1mh8g0r x1vvkbs xtlvy1s" style="margin: 0.5em 0px 0px\; overflow-wrap: break-word\; font-family: &quot\;Segoe UI Historic&quot\;\, &quot\;Segoe UI&quot\;\, Helvetica\, Arial\, sans-serif\; color: rgb(5\, 5\, 5)\; font-size: 15px\;">Here is what we have planned so far!<br />\n-Palmer/Butte | January 21st\, 2023<br />\n-Wasilla/Big Lake/Houston (Spring 2023)</div>\n\n<div class="x11i5rnm xat24cr x1mh8g0r x1vvkbs xtlvy1s" style="margin: 0.5em 0px 0px\; overflow-wrap: break-word\; font-family: &quot\;Segoe UI Historic&quot\;\, &quot\;Segoe UI&quot\;\, Helvetica\, Arial\, sans-serif\; color: rgb(5\, 5\, 5)\; font-size: 15px\;">Register for a gift bag:<br />\n<a class="x1i10hfl xjbqb8w x6umtig x1b1mbwd xaqea5y xav7gou x9f619 x1ypdohk xt0psk2 xe8uvvx xdj266r x11i5rnm xat24cr x1mh8g0r xexx8yu x4uap5 x18d9i69 xkhd6sd x16tdsg8 x1hl2dhg xggy1nq x1a2a7pz xt0b8zv x1fey0fg" href="https://www.surveymonkey.com/r/babyshower3?fbclid=IwAR3lGSJayxBCDxCRoiLaAKS34pBy3mbD9VUg2JHSUQ2MiQkc8puAecdd0A0" rel="nofollow noopener" role="link" style="color: var(--blue-link)\; cursor: pointer\; text-decoration-line: none\; margin: 0px\; text-align: inherit\; padding: 0px\; outline: none\; border-width: 0px\; border-style: initial\; border-color: initial\; -webkit-tap-highlight-color: transparent\; box-sizing: border-box\; list-style: none\; touch-action: manipulation\; background-color: transparent\; display: inline\; font-family: inherit\;" tabindex="0" target="_blank">https://www.surveymonkey.com/r/babyshower3</a></div>\n
LOCATION:Borough Community Gym 350 E. Dahlia Ave. Palmer\, AK 99645
UID:e.3185.18548
SEQUENCE:3
DTSTAMP:20260420T185803Z
URL:https://business.wasillachamber.org/events/details/rock-mat-su-community-baby-shower-18548
END:VEVENT

END:VCALENDAR
