BEGIN:VCALENDAR
VERSION:2.0
PRODID:-//ChamberMaster//Event Calendar 2.0//EN
METHOD:PUBLISH
X-PUBLISHED-TTL:P3D
REFRESH-INTERVAL:P3D
CALSCALE:GREGORIAN
BEGIN:VEVENT
DTSTART:20240915T020000Z
DTEND:20240915T050000Z
X-MICROSOFT-CDO-ALLDAYEVENT:FALSE
SUMMARY:Riyadh Season Noche UFC: O’Malley vs Dvalishvili - Saturday\, September 14 live from Sphere in Las Vegas\, NV
DESCRIPTION:Riyadh Season Noche UFC: O?Malley vs Dvalishvili - Saturday\, September 14 live from Sphere in Las Vegas\, NV \n\n \n\nLive in theatres\n\n\n\nA championship doubleheader will headline one of the most historic UFC events of all-time on September 14\, as Riyadh Season Noche UFC takes over Sphere in Las Vegas. In the main event\, the UFC bantamweight title is on the line when bantamweight champion "Suga" Sean O'Malley defends his belt against "The Machine\," relentless contender Merab Dvalishvili. Plus\, flyweight superstars will settle the score in their third meeting as Alexa Grasso will risk her 125-pound championship against longtime rival Valentina Shevchenko.
X-ALT-DESC;FMTTYPE=text/html:<strong><span style="color:#002060"><span style="font-family:calibri\,sans-serif"><span style="font-size:12.0pt">Riyadh Season Noche UFC: O?Malley vs Dvalishvili - Saturday\, September 14 live from Sphere in Las Vegas\, NV </span></span></span></strong><br>\n&nbsp\;<br>\n<em><span style="color:#002060"><span style="font-family:calibri\,sans-serif"><span style="font-size:12.0pt">Live in theatres</span></span></span></em><br>\n<br>\n<span style="color:#002060"><span style="font-family:calibri\,sans-serif"><span style="font-size:12.0pt">A championship doubleheader will headline one of the most historic UFC events of all-time on September 14\, as Riyadh Season&nbsp\;</span></span></span><span style="color:#002060"><span style="font-family:calibri\,sans-serif"><span style="font-size:12.0pt">Noche UFC takes over Sphere in Las Vegas. In the main event\, the UFC bantamweight title is on the line when bantamweight&nbsp\;</span></span></span><span style="color:#002060"><span style="font-family:calibri\,sans-serif"><span style="font-size:12.0pt">champion "Suga" Sean O'Malley defends his belt against "The Machine\," relentless contender Merab Dvalishvili. Plus\, flyweight&nbsp\;</span></span></span><span style="color:#002060"><span style="font-family:calibri\,sans-serif"><span style="font-size:12.0pt">superstars will settle the score in their third meeting as Alexa Grasso will risk her 125-pound championship against longtime rival&nbsp\;</span></span></span><span style="color:#002060"><span style="font-family:calibri\,sans-serif"><span style="font-size:12.0pt">Valentina Shevchenko.</span></span></span>
LOCATION:The Valley Cinema
UID:e.3185.22738
SEQUENCE:3
DTSTAMP:20260425T153317Z
URL:https://business.wasillachamber.org/events/details/riyadh-season-noche-ufc-o-malley-vs-dvalishvili-saturday-september-14-live-from-sphere-in-las-vegas-nv-22738
END:VEVENT

END:VCALENDAR
