BEGIN:VCALENDAR
VERSION:2.0
PRODID:-//ChamberMaster//Event Calendar 2.0//EN
METHOD:PUBLISH
X-PUBLISHED-TTL:P3D
REFRESH-INTERVAL:P3D
CALSCALE:GREGORIAN
BEGIN:VEVENT
DTSTART:20230113T183000Z
DTEND:20230114T010000Z
X-MICROSOFT-CDO-ALLDAYEVENT:FALSE
SUMMARY:Red Cross CPR/AED/First Aid training class
DESCRIPTION:Get the knowledge you need to recognize emergencies\, assess needs\, and provide quality care for adults\, children and infants that will save lives. Obtain the certification through the combination of lecture\, discussion\, video and hands on training based on real life scenarios. An Adult and Pediatric First Aid/CPR/AED American Red Cross certification course taught by trained and certified instructors.  Certification good for 2 years.
X-ALT-DESC;FMTTYPE=text/html:<span style="color:#333333">Get the knowledge you need to recognize emergencies\, assess needs\, and provide quality care for adults\, children and infants that will save lives. Obtain the certification through the combination of lecture\, discussion\, video and hands on training based on real life scenarios. An Adult and Pediatric First Aid/CPR/AED American Red Cross certification course taught by trained and certified instructors.&nbsp\; Certification good for 2 years.</span>
LOCATION:Mat-Su Services for Children and Adults building\, 1225 W Spruce Ave\, Wasilla\, AK 99654. Intersection of Lucas Rd and Spruce Ave.
UID:e.3185.17746
SEQUENCE:3
DTSTAMP:20260420T185444Z
URL:https://business.wasillachamber.org/events/details/red-cross-cpr-aed-first-aid-training-class-01-13-2023-17746
END:VEVENT

END:VCALENDAR
