BEGIN:VCALENDAR
VERSION:2.0
PRODID:-//ChamberMaster//Event Calendar 2.0//EN
METHOD:PUBLISH
X-PUBLISHED-TTL:P3D
REFRESH-INTERVAL:P3D
CALSCALE:GREGORIAN
BEGIN:VEVENT
DTSTART:20230916T210000Z
DTEND:20230916T230000Z
X-MICROSOFT-CDO-ALLDAYEVENT:FALSE
SUMMARY:Ready to Write: Motor Skills Play Fair at Wasilla Public Library
DESCRIPTION:Several skills need to be in place for your young child to be ready for writing.  Join us for our next Motor Skills Play Fair on Saturday\, September 16 from 1-3pm.  We will have lots of different stations set up for you to explore and practice a variety of motor skills together.  Special guest Wild Free Kids OT will be on hand to answer questions and will have special toys to play with from Tinker Time Alaska.  This event is best for kids ages 2 to 7.  There will be Door Prizes!
X-ALT-DESC;FMTTYPE=text/html:<span style="color: rgb(34\, 34\, 34)\; font-family: Arial\, Helvetica\, sans-serif\; font-size: small\;">Several skills need to be in place for your young child to be ready for writing.&nbsp\; Join us for our next Motor Skills Play Fair on&nbsp\;</span><b style="color: rgb(34\, 34\, 34)\; font-family: Arial\, Helvetica\, sans-serif\; font-size: small\;">Saturday\, September 16 from 1-3pm</b><span style="color: rgb(34\, 34\, 34)\; font-family: Arial\, Helvetica\, sans-serif\; font-size: small\;">.&nbsp\; We will have lots of different stations set up for you to explore and practice a variety of motor skills together.&nbsp\; Special guest&nbsp\;</span><strong style="color: rgb(34\, 34\, 34)\; font-family: Arial\, Helvetica\, sans-serif\; font-size: small\;"><span style="font-family: Calibri\, sans-serif\;">Wild Free Kids OT</span></strong><span style="color: rgb(34\, 34\, 34)\; font-family: Arial\, Helvetica\, sans-serif\; font-size: small\;">&nbsp\;will be on hand to answer questions and will have special toys to play with from&nbsp\;</span><strong style="color: rgb(34\, 34\, 34)\; font-family: Arial\, Helvetica\, sans-serif\; font-size: small\;"><span style="font-family: Calibri\, sans-serif\;">Tinker Time Alaska</span></strong><span style="color: rgb(34\, 34\, 34)\; font-family: Arial\, Helvetica\, sans-serif\; font-size: small\;">.&nbsp\; This event is best for kids ages 2 to 7.&nbsp\; There will be Door Prizes!</span>
LOCATION:Wasilla Public Library 500 N. Crusey St. Wasilla\, AK 99654
UID:e.3185.21107
SEQUENCE:3
DTSTAMP:20260421T153043Z
URL:https://business.wasillachamber.org/events/details/ready-to-write-motor-skills-play-fair-at-wasilla-public-library-21107
END:VEVENT

END:VCALENDAR
