BEGIN:VCALENDAR
VERSION:2.0
PRODID:-//ChamberMaster//Event Calendar 2.0//EN
METHOD:PUBLISH
X-PUBLISHED-TTL:P3D
REFRESH-INTERVAL:P3D
CALSCALE:GREGORIAN
BEGIN:VEVENT
DTSTART:20240921T200000Z
DTEND:20240922T020000Z
X-MICROSOFT-CDO-ALLDAYEVENT:FALSE
SUMMARY:Railroad Avenue Market
DESCRIPTION:Come join us at Bearpaw River Brewing Co. on Railroad Avenue for our Railroad Avenue Market. Shop in a our beer garden and enjoy good food and good beer!
X-ALT-DESC;FMTTYPE=text/html:Come join us at Bearpaw River Brewing Co. on Railroad Avenue for our Railroad Avenue Market. Shop in a our beer garden and enjoy good food and good beer!
LOCATION:Bearpaw River Brewing Co. 240 E Railroad Ave Wasilla\, AK 99654
UID:e.3185.22348
SEQUENCE:3
DTSTAMP:20260425T151607Z
URL:https://business.wasillachamber.org/events/details/railroad-avenue-market-22348
END:VEVENT

END:VCALENDAR
