BEGIN:VCALENDAR
VERSION:2.0
PRODID:-//ChamberMaster//Event Calendar 2.0//EN
METHOD:PUBLISH
X-PUBLISHED-TTL:P3D
REFRESH-INTERVAL:P3D
CALSCALE:GREGORIAN
BEGIN:VEVENT
DTSTART:20240725T170000Z
DTEND:20240725T233000Z
X-MICROSOFT-CDO-ALLDAYEVENT:FALSE
SUMMARY:Quilts of Valor at WASI
DESCRIPTION:Join us for quilt making at WASI
X-ALT-DESC;FMTTYPE=text/html:Join us for quilt making at WASI&nbsp\;&nbsp\;&nbsp\;&nbsp\;
LOCATION:WASI 1301 S Century Cir\, Wasilla\, AK 99654
UID:e.3185.22667
SEQUENCE:3
DTSTAMP:20260425T124120Z
URL:https://business.wasillachamber.org/events/details/quilts-of-valor-at-wasi-22667
END:VEVENT

END:VCALENDAR
