BEGIN:VCALENDAR
VERSION:2.0
PRODID:-//ChamberMaster//Event Calendar 2.0//EN
METHOD:PUBLISH
X-PUBLISHED-TTL:P3D
REFRESH-INTERVAL:P3D
CALSCALE:GREGORIAN
BEGIN:VEVENT
DTSTART:20231026T170000Z
DTEND:20231027T000000Z
X-MICROSOFT-CDO-ALLDAYEVENT:FALSE
SUMMARY:Nine Star Matsu Book Donations
DESCRIPTION:Book donation drop off. (ages 0-12)
X-ALT-DESC;FMTTYPE=text/html:Book donation drop off. (ages 0-12)
LOCATION:899 W Commercial Dr. Wasilla\, AK 99654
UID:e.3185.21257
SEQUENCE:3
DTSTAMP:20260423T144215Z
URL:https://business.wasillachamber.org/events/details/nine-star-matsu-book-donations-10-26-2023-21257
END:VEVENT

END:VCALENDAR
