BEGIN:VCALENDAR
VERSION:2.0
PRODID:-//ChamberMaster//Event Calendar 2.0//EN
METHOD:PUBLISH
X-PUBLISHED-TTL:P3D
REFRESH-INTERVAL:P3D
CALSCALE:GREGORIAN
BEGIN:VEVENT
DTSTART:20231031T230000Z
DTEND:20231101T040000Z
X-MICROSOFT-CDO-ALLDAYEVENT:FALSE
SUMMARY:Nine Star Mat-su Booth at Halloween Hallow
DESCRIPTION:Trick or Treat Event.
X-ALT-DESC;FMTTYPE=text/html:Trick or Treat Event.&nbsp\;
LOCATION:Raven Hall at the Alaska State Fairgrounds.
UID:e.3185.21259
SEQUENCE:3
DTSTAMP:20260423T144121Z
URL:https://business.wasillachamber.org/events/details/nine-star-mat-su-booth-at-halloween-hallow-21259
END:VEVENT

END:VCALENDAR
