BEGIN:VCALENDAR
VERSION:2.0
PRODID:-//ChamberMaster//Event Calendar 2.0//EN
METHOD:PUBLISH
X-PUBLISHED-TTL:P3D
REFRESH-INTERVAL:P3D
CALSCALE:GREGORIAN
BEGIN:VEVENT
DTSTART;VALUE=DATE:20231018
DTEND;VALUE=DATE:20231019
TRANSP:TRANSPARENT
X-MICROSOFT-CDO-ALLDAYEVENT:TRUE
SUMMARY:National Support Your Local Chamber of Commerce Day & Chamber Open House
DESCRIPTION:October 18th 2023 is National Support Your Local Chamber of Commerce Day!\n\n\n\nThis is one day to recognize your local Chamber for all they do for business and your community.\n\n\n\nThe Greater Wasilla Chamber of Commerce will host an Open House at the Chamber offices and Visitor Center.
X-ALT-DESC;FMTTYPE=text/html:October 18th 2023 is National Support Your Local Chamber of Commerce Day!<br />\n<br />\nThis is one day to recognize your local Chamber for all they do for business and your community.<br />\n<br />\nThe Greater Wasilla Chamber of Commerce will host an Open House at the Chamber offices and Visitor Center.&nbsp\;
LOCATION:Greater Wasilla Chamber of Commerce 1155 E. Depot Rd. Wasilla\, AK 99654
UID:e.3185.1879
SEQUENCE:3
DTSTAMP:20260423T144512Z
URL:https://business.wasillachamber.org/events/details/national-support-your-local-chamber-of-commerce-day-chamber-open-house-10-18-2023-1879
END:VEVENT

END:VCALENDAR
