BEGIN:VCALENDAR
VERSION:2.0
PRODID:-//ChamberMaster//Event Calendar 2.0//EN
METHOD:PUBLISH
X-PUBLISHED-TTL:P3D
REFRESH-INTERVAL:P3D
CALSCALE:GREGORIAN
BEGIN:VEVENT
DTSTART:20231101T010000Z
DTEND:20231101T040000Z
X-MICROSOFT-CDO-ALLDAYEVENT:FALSE
SUMMARY:MSSCA Truck-or-Treat
DESCRIPTION:Mat-Su Services for Children and Adults is hosting a spooky and fun Truck-or-Treat in the parking lot of our building. This is a perfect event for anyone looking for a safe trick-or-treat experience in a well lit parking lot. The event will begin at 5 pm on October 31st and finish up by 8 pm. If you would like to donate or host a trunk station please contact Leah at 907-352-1200\n\n\n\nLocated at 1225 W Spruce  Ave. Wasilla\, AK 99654
X-ALT-DESC;FMTTYPE=text/html:<div style="text-align:center">Mat-Su Services for Children and Adults is hosting a spooky and fun Truck-or-Treat in the parking lot of our building. This is a perfect event for anyone looking for a safe trick-or-treat experience in a well lit parking lot. The event will begin at 5 pm on October 31st and finish up by 8 pm. If you would like to donate or host a trunk station please contact Leah at 907-352-1200<br />\n<br />\nLocated at 1225 W Spruce&nbsp\; Ave. Wasilla\, AK 99654</div>\n
LOCATION:1225 W Spruce Ave. Wasilla\, AK 99654
UID:e.3185.21184
SEQUENCE:3
DTSTAMP:20260423T143933Z
URL:https://business.wasillachamber.org/events/details/mssca-truck-or-treat-21184
END:VEVENT

END:VCALENDAR
