BEGIN:VCALENDAR
VERSION:2.0
PRODID:-//ChamberMaster//Event Calendar 2.0//EN
METHOD:PUBLISH
X-PUBLISHED-TTL:P3D
REFRESH-INTERVAL:P3D
CALSCALE:GREGORIAN
BEGIN:VEVENT
DTSTART:20231010T210000Z
DTEND:20231010T224500Z
X-MICROSOFT-CDO-ALLDAYEVENT:FALSE
SUMMARY:MSSCA Free Movie Night
DESCRIPTION:Join Mat-Su Services for Children & Adults for a FREE Movie Night at the Valley Cinema!\n\nFeaturing FREE Popcorn and anyone who attends the whole movie will be eligible to enter a door prize drawing for some really cool stuff.\n\nYou do not need to sign up - just come! Hope to see you there!\n\n\n\nOctober 10th will be showing Hotel Transylvania!
X-ALT-DESC;FMTTYPE=text/html:Join Mat-Su Services for Children &amp\; Adults for a FREE Movie Night at the Valley Cinema!<br />\nFeaturing FREE Popcorn and anyone who attends the whole movie will be eligible to enter a door prize drawing for some really cool stuff.<br />\nYou do not need to sign up - just come! Hope to see you there!<br />\n<br />\nOctober 10th will be showing Hotel Transylvania!
LOCATION:Valley Cinema - Room 104 3331 E Old Matanuska Rd\, Wasilla\, AK 99654
UID:e.3185.21233
SEQUENCE:3
DTSTAMP:20260423T143842Z
URL:https://business.wasillachamber.org/events/details/mssca-free-movie-night-21233
END:VEVENT

END:VCALENDAR
