BEGIN:VCALENDAR
VERSION:2.0
PRODID:-//ChamberMaster//Event Calendar 2.0//EN
METHOD:PUBLISH
X-PUBLISHED-TTL:P3D
REFRESH-INTERVAL:P3D
CALSCALE:GREGORIAN
BEGIN:VEVENT
DTSTART:20231009T225500Z
DTEND:20231009T230000Z
X-MICROSOFT-CDO-ALLDAYEVENT:FALSE
SUMMARY:MSSCA Fall Basket Auction Closes
DESCRIPTION:"Come one\, call all and check out the Fall Basket Auction with Mat-Su Services for Children & Adults!\n\nWe will have baskets featuring all sorts of goodies up for open bidding.\n\n\n\nAll items will be viewable and open for bidding starting 10AM on Monday October 2nd. Bidding will close at 3PM on Monday October 9th.\n\nAll proceeds will go towards helping MSSCA's mission.\n\nFor questions\, please call 907-352-1200"
X-ALT-DESC;FMTTYPE=text/html:&quot\;Come one\, call all and check out the Fall Basket Auction with Mat-Su Services for Children &amp\; Adults!<br />\nWe will have baskets featuring all sorts of goodies up for open bidding.<br />\n<br />\nAll items will be viewable and open for bidding starting 10AM on Monday October 2nd. Bidding will close at 3PM on Monday October 9th.<br />\nAll proceeds will go towards helping MSSCA&#39\;s mission.<br />\nFor questions\, please call 907-352-1200&quot\;
LOCATION:Mat-Su Services for Children & Adults 1225 W. Spruce Ave. Wasilla\, AK 99654 Open Monday - Friday 8AM - 5PM
UID:e.3185.21102
SEQUENCE:3
DTSTAMP:20260423T143638Z
URL:https://business.wasillachamber.org/events/details/mssca-fall-basket-auction-closes-21102
END:VEVENT

END:VCALENDAR
