BEGIN:VCALENDAR
VERSION:2.0
PRODID:-//ChamberMaster//Event Calendar 2.0//EN
METHOD:PUBLISH
X-PUBLISHED-TTL:P3D
REFRESH-INTERVAL:P3D
CALSCALE:GREGORIAN
BEGIN:VEVENT
DTSTART:20230106T023000Z
DTEND:20230106T040000Z
X-MICROSOFT-CDO-ALLDAYEVENT:FALSE
SUMMARY:MSHF Scholarship Info Session
DESCRIPTION:Join Mat-Su Health Foundation to learn about the many scholarship opportunities in health and human services offered by the Mat-Su Health Foundation.
X-ALT-DESC;FMTTYPE=text/html:Join Mat-Su Health Foundation to learn about the many scholarship opportunities in health and human services offered by the Mat-Su Health Foundation.
LOCATION:Mat-Su Health Foundation 777 N. Crusey St. Wasilla\, AK99654
UID:e.3185.17238
SEQUENCE:3
DTSTAMP:20260420T185411Z
URL:https://business.wasillachamber.org/events/details/mshf-scholarship-info-session-17238
END:VEVENT

END:VCALENDAR
