BEGIN:VCALENDAR
VERSION:2.0
PRODID:-//ChamberMaster//Event Calendar 2.0//EN
METHOD:PUBLISH
X-PUBLISHED-TTL:P3D
REFRESH-INTERVAL:P3D
CALSCALE:GREGORIAN
BEGIN:VEVENT
DTSTART:20231012T180000Z
DTEND:20231012T230000Z
X-MICROSOFT-CDO-ALLDAYEVENT:FALSE
SUMMARY:MSBSD College & Career Fair
DESCRIPTION:Mat-Su Borough School District Annual College & Career Fair\n\n\n\nAttention High school Juniors and Seniors!\n\nRepresentatives from colleges\, universities and organizations will be available with information to answer your questions.\n\n\n\nMSBSD College & Career Fair is FREE!\n\nNo appointments needed\n\nParents and community members are welcome to attend\n\nStudents may need to self-transport following SAT testing\n\n\n\nStudents can talk to their school Counselor for more information
X-ALT-DESC;FMTTYPE=text/html:Mat-Su Borough School District Annual College &amp\; Career Fair<br />\n<br />\nAttention High school Juniors and Seniors!<br />\nRepresentatives from colleges\, universities and organizations will be available with information to answer your questions.<br />\n<br />\nMSBSD College &amp\; Career Fair is FREE!<br />\nNo appointments needed<br />\nParents and community members are welcome to attend<br />\nStudents may need to self-transport following SAT testing<br />\n<br />\nStudents can talk to their school Counselor for more information
LOCATION:Menard Sports Center 1001 S. Clapp St. Wasilla\, AK 99654
UID:e.3185.21086
SEQUENCE:3
DTSTAMP:20260423T143809Z
URL:https://business.wasillachamber.org/events/details/msbsd-college-career-fair-21086
END:VEVENT

END:VCALENDAR
