BEGIN:VCALENDAR
VERSION:2.0
PRODID:-//ChamberMaster//Event Calendar 2.0//EN
METHOD:PUBLISH
X-PUBLISHED-TTL:P3D
REFRESH-INTERVAL:P3D
CALSCALE:GREGORIAN
BEGIN:VEVENT
DTSTART:20231022T010000Z
DTEND:20231022T030000Z
X-MICROSOFT-CDO-ALLDAYEVENT:FALSE
SUMMARY:Miners' Booster Club Fall Fundraiser
DESCRIPTION:Join Mat-Su Miners for the Miners' Booster Club Fall Fundraiser\n\nCelebrating the Boys of Summer\n\nSaturday October 21st at the Palmer Train Depot\n\n\n\nSilent Auction\n\nDessert Auction\n\n50/50 "Split the Pot"\n\n\n\nDoors open\, drink and food starting at 5PM\n\n\n\nTickets $50 per person in advance\n\n$55 at the door\, if space available\n\n$30 for designated driver\n\n\n\nFor more information\, or to make a donation\, call Denise Christopher at 907-841-4589 or email gmminers@gci.net
X-ALT-DESC;FMTTYPE=text/html:Join Mat-Su Miners for the Miners&#39\; Booster Club Fall Fundraiser<br />\nCelebrating the Boys of Summer<br />\nSaturday October 21st at the Palmer Train Depot<br />\n<br />\nSilent Auction<br />\nDessert Auction<br />\n50/50 &quot\;Split the Pot&quot\;<br />\n<br />\nDoors open\, drink and food starting at 5PM<br />\n<br />\nTickets $50 per person in advance<br />\n$55 at the door\, if space available<br />\n$30 for designated driver<br />\n<br />\nFor more information\, or to make a donation\, call Denise Christopher at 907-841-4589 or email gmminers@gci.net<br />\n&nbsp\;
LOCATION:Palmer Train Depot 610 S Valley Way\, Palmer\, AK 99645
UID:e.3185.21165
SEQUENCE:3
DTSTAMP:20260423T143936Z
URL:https://business.wasillachamber.org/events/details/miners-booster-club-fall-fundraiser-21165
END:VEVENT

END:VCALENDAR
