BEGIN:VCALENDAR
VERSION:2.0
PRODID:-//ChamberMaster//Event Calendar 2.0//EN
METHOD:PUBLISH
X-PUBLISHED-TTL:P3D
REFRESH-INTERVAL:P3D
CALSCALE:GREGORIAN
BEGIN:VEVENT
DTSTART:20231006T235500Z
DTEND:20231007T000000Z
X-MICROSOFT-CDO-ALLDAYEVENT:FALSE
SUMMARY:MEA Surplus Equipment Sale BIDS DUE
DESCRIPTION:MEA will be holding a surplus sale of vehicles\, equipment\, and/or other items that are available for the general public to bid on.\n\nA public viewing of surplus items will be available at MEA's Palmer Headquarters at 163 E Industrial Way on Wednesday October 4th from 10:00 a.m. to 1:00 p.m.\n\nAll bids for surplus items must be submitted by 4:00 p.m. (AKST) on Friday\, October 6th.\n\nYou can review a catalog of surplus items available for bid at the following link: www.mea.coop/surplussale
X-ALT-DESC;FMTTYPE=text/html:<span style="color: rgb(5\, 5\, 5)\; font-family: &quot\;Segoe UI Historic&quot\;\, &quot\;Segoe UI&quot\;\, Helvetica\, Arial\, sans-serif\; font-size: 15px\;">MEA will be holding a surplus sale of vehicles\, equipment\, and/or other items that are available for the general public to bid on.<br />\nA public viewing of surplus items will be available at MEA&#39\;s Palmer Headquarters at 163 E Industrial Way on Wednesday October 4th from 10:00 a.m. to 1:00 p.m.<br />\nAll bids for surplus items must be submitted by 4:00 p.m. (AKST) on Friday\, October 6th.<br />\nYou can review a catalog of surplus items available for bid at the following link:&nbsp\;</span><span style="font-family: &quot\;Segoe UI Historic&quot\;\, &quot\;Segoe UI&quot\;\, Helvetica\, Arial\, sans-serif\; color: rgb(5\, 5\, 5)\; font-size: 15px\;"><a class="qi72231t nu7423ey n3hqoq4p r86q59rh b3qcqh3k fq87ekyn bdao358l fsf7x5fv rse6dlih s5oniofx m8h3af8h l7ghb35v kjdc1dyq kmwttqpk srn514ro oxkhqvkx rl78xhln nch0832m cr00lzj9 rn8ck1ys s3jn8y49 icdlwmnq cxfqmxzd ezidihy3" href="http://www.mea.coop/surplussale?fbclid=IwAR1VG5WikWP9Iim79mad8xXC2HiGTYWM2hBFQfTsJKW2TXybQnocOi7odUQ" rel="nofollow noopener" role="link" style="color: var(--blue-link)\; cursor: pointer\; text-decoration-line: none\; outline: none\; list-style: none\; border-width: 0px\; border-style: initial\; border-color: initial\; box-sizing: border-box\; text-align: inherit\; margin: 0px\; padding: 0px\; background-color: transparent\; -webkit-tap-highlight-color: transparent\; display: inline\; touch-action: manipulation\; font-family: inherit\;" tabindex="0" target="_blank">www.mea.coop/surplussale</a></span>
LOCATION:MEA 163 E. Industrial Way Palmer\, AK 99645
UID:e.3185.21161
SEQUENCE:3
DTSTAMP:20260423T143935Z
URL:https://business.wasillachamber.org/events/details/mea-surplus-equipment-sale-bids-due-21161
END:VEVENT

END:VCALENDAR
