BEGIN:VCALENDAR
VERSION:2.0
PRODID:-//ChamberMaster//Event Calendar 2.0//EN
METHOD:PUBLISH
X-PUBLISHED-TTL:P3D
REFRESH-INTERVAL:P3D
CALSCALE:GREGORIAN
BEGIN:VEVENT
DTSTART:20231009T180000Z
DTEND:20231009T230000Z
X-MICROSOFT-CDO-ALLDAYEVENT:FALSE
SUMMARY:Mat-Su Services for Children and Adults Fall Basket Auction
DESCRIPTION:Come one\, come all\, and check out the Fall Basket Auction. We will have baskets featuring all sorts of goodies up for open bidding. We are currently looking for donations to feature in the auction. We will accept brand new items\, handcrafted items\, gift cards/certificates\, or even monetary donations to help fund a basket. All donations needs to be received at our office by September 28 at 5 pm.\n\n\n\nAll items will be viewable and open for bidding starting 10 am\, Monday\, October 2. Bidding will close at 3 pm on Monday\, October 9. Keep an eye on our Facebook page for more information as we near the auction date. All proceeds will go towards helping MSSCA's mission. For questions\, please call 907-352-1200.\n\n\n\nTo Bid go to: https://new.biddingowl.com/msscafallauction2023\n\n\nFacebook: Mat-Su Services for Children and Adults\n\nWebsite: www.mssca.org
X-ALT-DESC;FMTTYPE=text/html:<div style="text-align:center"><span style="font-family:verdana\,sans-serif"><span style="font-size:16.0pt">Come one\, come all\, and check out the Fall Basket Auction. We will have baskets featuring all sorts of goodies up for open bidding. We are currently looking for donations to feature in the auction. We will accept brand new items\, handcrafted items\, gift cards/certificates\, or even monetary donations to help fund a basket. All donations needs to be received at our office by September 28 at 5 pm.<br />\n<br />\nAll&nbsp\;</span><span style="font-size:15.0pt">items will be viewable and open for bidding starting 10 am\, Monday\, October 2. Bidding will close at 3 pm on Monday\, October 9. Keep an eye on our Facebook page for more information as we near the auction date. All proceeds will go towards helping MSSCA&rsquo\;s mission. For questions\, please call 907-352-1200.<br />\n<br />\nTo Bid go to:&nbsp\;</span></span><span style="font-size:16.0pt"><a href="https://new.biddingowl.com/msscafallauction2023">https://new.biddingowl.com/msscafallauction2023</a></span></div>\n<br />\n<span style="font-family:verdana\,sans-serif"><span style="font-size:15.0pt">Facebook: Mat-Su Services for Children and Adults<br />\nWebsite: www.mssca.org</span></span><br />\n<br />\n&nbsp\;
LOCATION:1225 W Spruce Ave. Wasilla\, AK 99654
UID:e.3185.21223
SEQUENCE:3
DTSTAMP:20260423T145759Z
URL:https://business.wasillachamber.org/events/details/mat-su-services-for-children-and-adults-fall-basket-auction-10-09-2023-21223
END:VEVENT

END:VCALENDAR
