BEGIN:VCALENDAR
VERSION:2.0
PRODID:-//ChamberMaster//Event Calendar 2.0//EN
METHOD:PUBLISH
X-PUBLISHED-TTL:P3D
REFRESH-INTERVAL:P3D
CALSCALE:GREGORIAN
BEGIN:VEVENT
DTSTART:20230131T190000Z
DTEND:20230131T230000Z
X-MICROSOFT-CDO-ALLDAYEVENT:FALSE
SUMMARY:Mat-Su Project Homeless Connect
DESCRIPTION:Health\, wellness & dental referrals\, employment assistance\, clothing\, food\, toiletries & more!
X-ALT-DESC;FMTTYPE=text/html:<span style="color: rgb(5\, 5\, 5)\; font-family: &quot\;Segoe UI Historic&quot\;\, &quot\;Segoe UI&quot\;\, Helvetica\, Arial\, sans-serif\; font-size: 15px\;">Health\, wellness &amp\; dental referrals\, employment assistance\, clothing\, food\, toiletries &amp\; more!</span>
LOCATION:Menard 1001 S Clapp St Wasilla\, AK 99654
UID:e.3185.18570
SEQUENCE:3
DTSTAMP:20260420T185409Z
URL:https://business.wasillachamber.org/events/details/mat-su-project-homeless-connect-18570
END:VEVENT

END:VCALENDAR
