BEGIN:VCALENDAR
VERSION:2.0
PRODID:-//ChamberMaster//Event Calendar 2.0//EN
METHOD:PUBLISH
X-PUBLISHED-TTL:P3D
REFRESH-INTERVAL:P3D
CALSCALE:GREGORIAN
BEGIN:VEVENT
DTSTART:20231006T020000Z
DTEND:20231006T030000Z
X-MICROSOFT-CDO-ALLDAYEVENT:FALSE
SUMMARY:Mat-Su 2024 Arctic Winter Games Volunteer Recruitment Event
DESCRIPTION:Come to the Mat-Su 2024 Arctic Winter Games volunteer recruitment open house and watch an informational video\, get your questions answered\, and get signed up! Recruitment is only open through December 15th\, so don't delay!\n\nFood is provided.\n\nThe Arctic Winter Games is an international\, biannual youth sporting event showcasing the athletic ability and culture of the circumpolar North through competition in 20 different sports and culture categories.
X-ALT-DESC;FMTTYPE=text/html:<div class="xdj266r x11i5rnm xat24cr x1mh8g0r x1vvkbs" style="margin: 0px\; overflow-wrap: break-word\; font-family: &quot\;Segoe UI Historic&quot\;\, &quot\;Segoe UI&quot\;\, Helvetica\, Arial\, sans-serif\; color: rgb(5\, 5\, 5)\; font-size: 15px\;">Come to the Mat-Su 2024 Arctic Winter Games volunteer recruitment open house and watch an informational video\, get your questions answered\, and get signed up! Recruitment is only open through December 15th\, so don&#39\;t delay!</div>\n\n<div class="x11i5rnm xat24cr x1mh8g0r x1vvkbs xtlvy1s" style="margin: 0.5em 0px 0px\; overflow-wrap: break-word\; font-family: &quot\;Segoe UI Historic&quot\;\, &quot\;Segoe UI&quot\;\, Helvetica\, Arial\, sans-serif\; color: rgb(5\, 5\, 5)\; font-size: 15px\;">Food is provided.</div>\n\n<div class="x11i5rnm xat24cr x1mh8g0r x1vvkbs xtlvy1s" style="margin: 0.5em 0px 0px\; overflow-wrap: break-word\; font-family: &quot\;Segoe UI Historic&quot\;\, &quot\;Segoe UI&quot\;\, Helvetica\, Arial\, sans-serif\; color: rgb(5\, 5\, 5)\; font-size: 15px\;">The Arctic Winter Games is an international\, biannual youth sporting event showcasing the athletic ability and culture of the circumpolar North through competition in 20 different sports and culture categories.</div>\n
LOCATION:1100 S. Colony Way Palmer\, AK 99645
UID:e.3185.21226
SEQUENCE:3
DTSTAMP:20260423T144346Z
URL:https://business.wasillachamber.org/events/details/mat-su-2024-arctic-winter-games-volunteer-recruitment-event-21226
END:VEVENT

END:VCALENDAR
