BEGIN:VCALENDAR
VERSION:2.0
PRODID:-//ChamberMaster//Event Calendar 2.0//EN
METHOD:PUBLISH
X-PUBLISHED-TTL:P3D
REFRESH-INTERVAL:P3D
CALSCALE:GREGORIAN
BEGIN:VEVENT
DTSTART:20231006T200000Z
DTEND:20231007T010000Z
X-MICROSOFT-CDO-ALLDAYEVENT:FALSE
SUMMARY:Mat-Su 2024 Arctic Winter Games Volunteer Recruitment Event
DESCRIPTION:Come to our volunteer recruitment event and watch an informational video\, get your questions answered\, and get signed up! Recruitment is only open through December 15th\, so don't delay!
X-ALT-DESC;FMTTYPE=text/html:<div class="xdj266r x11i5rnm xat24cr x1mh8g0r x1vvkbs x126k92a" style="margin: 0px\; white-space-collapse: preserve\; overflow-wrap: break-word\; font-family: &quot\;Segoe UI Historic&quot\;\, &quot\;Segoe UI&quot\;\, Helvetica\, Arial\, sans-serif\; color: rgb(5\, 5\, 5)\; font-size: 15px\;">\n<div dir="auto" style="font-family: inherit\;">\n<div class="xdj266r x11i5rnm xat24cr x1mh8g0r x1vvkbs" style="margin: 0px\; overflow-wrap: break-word\; font-family: &quot\;Segoe UI Historic&quot\;\, &quot\;Segoe UI&quot\;\, Helvetica\, Arial\, sans-serif\; color: rgb(5\, 5\, 5)\; font-size: 15px\;">Come to our volunteer recruitment event and watch an informational video\, get your questions answered\, and get signed up! Recruitment is only open through December 15th\, so don&#39\;t delay!</div>\n</div>\n</div>\n
LOCATION:MAC Federal Credit Union 2700 E Parks Hwy\, Wasilla\, AK 99654
UID:e.3185.21216
SEQUENCE:3
DTSTAMP:20260423T144438Z
URL:https://business.wasillachamber.org/events/details/mat-su-2024-arctic-winter-games-volunteer-recruitment-event-21216
END:VEVENT

END:VCALENDAR
