BEGIN:VCALENDAR
VERSION:2.0
PRODID:-//ChamberMaster//Event Calendar 2.0//EN
METHOD:PUBLISH
X-PUBLISHED-TTL:P3D
REFRESH-INTERVAL:P3D
CALSCALE:GREGORIAN
BEGIN:VEVENT
DTSTART:20231015T180000Z
DTEND:20231016T020000Z
X-MICROSOFT-CDO-ALLDAYEVENT:FALSE
SUMMARY:MAC PAC Winter Clothing Drive
DESCRIPTION:MAC PAC Powered by MAC Federal Credit Union is hosting a winter clothing drive for Wasilla Family Promise!\n\nMAC PAC is looking for new or gently used: coats\, gloves\, scarves and hats
X-ALT-DESC;FMTTYPE=text/html:MAC PAC Powered by MAC Federal Credit Union is hosting a winter clothing drive for Wasilla Family Promise!<br />\nMAC PAC is looking for new or gently used: coats\, gloves\, scarves and hats
LOCATION:Drop off locations: MAC Federal Credit Union Wasilla: 2700 E. Parks Hwy Wasilla AK 99654 Palmer: 1010 E. Palmer-Wasilla Hwy\, Palmer AK 99645
UID:e.3185.21239
SEQUENCE:3
DTSTAMP:20260423T145102Z
URL:https://business.wasillachamber.org/events/details/mac-pac-winter-clothing-drive-10-15-2023-21239
END:VEVENT

END:VCALENDAR
