BEGIN:VCALENDAR
VERSION:2.0
PRODID:-//ChamberMaster//Event Calendar 2.0//EN
METHOD:PUBLISH
X-PUBLISHED-TTL:P3D
REFRESH-INTERVAL:P3D
CALSCALE:GREGORIAN
BEGIN:VEVENT
DTSTART:20230116T230000Z
DTEND:20230117T010000Z
X-MICROSOFT-CDO-ALLDAYEVENT:FALSE
SUMMARY:Lego Day at Wasilla Public Library
DESCRIPTION:Kids of all ages are invited to join us for open play with the library's collection of more than 10\,000 LEGO bricks in the Wasilla Public Library Multipurpose Room!
X-ALT-DESC;FMTTYPE=text/html:<span style="color: rgb(73\, 76\, 84)\; font-family: &quot\;Source Sans Pro&quot\;\, sans-serif\; font-size: 16px\; letter-spacing: 0.32px\;">Kids of all ages are invited to join us for open play with the library&#39\;s collection of more than 10\,000 LEGO bricks in the Wasilla Public Library Multipurpose Room!</span>
LOCATION:Wasilla Public Library Multipurpose Room 500 N. Crusey St. Wasilla\, AK 99654
UID:e.3185.18540
SEQUENCE:3
DTSTAMP:20260420T185536Z
URL:https://business.wasillachamber.org/events/details/lego-day-at-wasilla-public-library-18540
END:VEVENT

END:VCALENDAR
