BEGIN:VCALENDAR
VERSION:2.0
PRODID:-//ChamberMaster//Event Calendar 2.0//EN
METHOD:PUBLISH
X-PUBLISHED-TTL:P3D
REFRESH-INTERVAL:P3D
CALSCALE:GREGORIAN
BEGIN:VEVENT
DTSTART:20230106T030000Z
DTEND:20230106T050000Z
X-MICROSOFT-CDO-ALLDAYEVENT:FALSE
SUMMARY:League Open House at Last Frontier Axe Co.
DESCRIPTION:Feel like you haven't thrown an axe since last year or want to try for the first time!?\n\n\n\nCome shake the rust off this Thursday for our League Open House! We will have a full selection of some of the top axes used in league for you to try\, including Big Axes now!\n\n\n\nThis is an informational open house to ask questions about league\, sign up\, get some free throws in and see what all the fun is about!
X-ALT-DESC;FMTTYPE=text/html:<span style="color: rgb(5\, 5\, 5)\; font-family: &quot\;Segoe UI Historic&quot\;\, &quot\;Segoe UI&quot\;\, Helvetica\, Arial\, sans-serif\; font-size: 15px\;">Feel like you haven&#39\;t thrown an axe since last year or want to try for the first time!?</span><br style="color: rgb(5\, 5\, 5)\; font-family: &quot\;Segoe UI Historic&quot\;\, &quot\;Segoe UI&quot\;\, Helvetica\, Arial\, sans-serif\; font-size: 15px\;" />\n<br style="color: rgb(5\, 5\, 5)\; font-family: &quot\;Segoe UI Historic&quot\;\, &quot\;Segoe UI&quot\;\, Helvetica\, Arial\, sans-serif\; font-size: 15px\;" />\n<span style="color: rgb(5\, 5\, 5)\; font-family: &quot\;Segoe UI Historic&quot\;\, &quot\;Segoe UI&quot\;\, Helvetica\, Arial\, sans-serif\; font-size: 15px\;">Come shake the rust off this Thursday for our League Open House! We will have a full selection of some of the top axes used in league for you to try\, including Big Axes now!</span><br style="color: rgb(5\, 5\, 5)\; font-family: &quot\;Segoe UI Historic&quot\;\, &quot\;Segoe UI&quot\;\, Helvetica\, Arial\, sans-serif\; font-size: 15px\;" />\n<br style="color: rgb(5\, 5\, 5)\; font-family: &quot\;Segoe UI Historic&quot\;\, &quot\;Segoe UI&quot\;\, Helvetica\, Arial\, sans-serif\; font-size: 15px\;" />\n<span style="color: rgb(5\, 5\, 5)\; font-family: &quot\;Segoe UI Historic&quot\;\, &quot\;Segoe UI&quot\;\, Helvetica\, Arial\, sans-serif\; font-size: 15px\;">This is an informational open house to ask questions about league\, sign up\, get some free throws in and see what all the fun is about!</span>
LOCATION:Last Frontier Axe Co 2060 E. Foundry Way Unit 102 Wasilla\, AK 99654
UID:e.3185.18552
SEQUENCE:3
DTSTAMP:20260420T185527Z
URL:https://business.wasillachamber.org/events/details/league-open-house-at-last-frontier-axe-co-18552
END:VEVENT

END:VCALENDAR
