BEGIN:VCALENDAR
VERSION:2.0
PRODID:-//ChamberMaster//Event Calendar 2.0//EN
METHOD:PUBLISH
X-PUBLISHED-TTL:P3D
REFRESH-INTERVAL:P3D
CALSCALE:GREGORIAN
BEGIN:VEVENT
DTSTART:20231002T170000Z
DTEND:20231003T010000Z
X-MICROSOFT-CDO-ALLDAYEVENT:FALSE
SUMMARY:Last Day for Early In-Person Voting Begins for City of Wasilla Regular Election
DESCRIPTION:The City will hold a "regular election" on Tuesday\, October 3. \n	City council seats C and D will be on the regular election ballot. Propositions appearing on the ballot must be adopted by July 28\, 2023.\n	The race for mayor will also be on the regular election ballot.\n	Note. If no candidate for mayor receives more than 40 percent of the votes cast in the regular election\, a "runoff election" will be held between the two candidates receiving the greatest number of votes. \n	 If held\, the mayoral runoff election will take place on Tuesday\, October 31.\n\n\nMore information on regular election here
X-ALT-DESC;FMTTYPE=text/html:<ul style="box-sizing: border-box\; margin-top: 8px\; margin-bottom: 18px\; padding-right: 0px\; color: rgb(73\, 76\, 84)\; font-family: &quot\;Source Sans Pro&quot\;\, sans-serif\; font-size: 16px\; letter-spacing: 0.32px\;">\n	<li style="box-sizing: border-box\; padding: 0px\;">The City will hold a &quot\;regular election&quot\; on&nbsp\;<span style="box-sizing: border-box\; font-weight: 700\;">Tuesday\, October 3</span>.&nbsp\;</li>\n	<li style="box-sizing: border-box\; padding: 0px\;">City council seats C and D will be on the regular election ballot. Propositions appearing on the ballot must be adopted by July 28\, 2023.</li>\n	<li style="box-sizing: border-box\; padding: 0px\;">The&nbsp\;race for mayor will also be on the regular election ballot.</li>\n	<li style="box-sizing: border-box\; padding: 0px\;"><span style="box-sizing: border-box\; font-weight: 700\;">Note</span>. If no candidate for mayor receives more than 40 percent of the votes cast in the regular election\, a &ldquo\;runoff election&rdquo\; will be held between the two candidates receiving the greatest number of votes.&nbsp\;</li>\n	<li style="box-sizing: border-box\; padding: 0px\;">&nbsp\;If held\, the mayoral runoff election will take place on Tuesday\, October 31.</li>\n</ul>\n\n<div style="box-sizing: border-box\; padding: 0px\;">More information on regular election <a href="https://www.cityofwasilla.gov/services/departments/elections">here</a></div>\n\n<div style="box-sizing: border-box\; padding: 0px\;">&nbsp\;</div>\n
LOCATION:Wasilla City Hall Council Chambers 290 E. Herning Ave Wasilla\, AK 99654
UID:e.3185.20901
SEQUENCE:3
DTSTAMP:20260423T144559Z
URL:https://business.wasillachamber.org/events/details/last-day-for-early-in-person-voting-begins-for-city-of-wasilla-regular-election-20901
END:VEVENT

END:VCALENDAR
