BEGIN:VCALENDAR
VERSION:2.0
PRODID:-//ChamberMaster//Event Calendar 2.0//EN
METHOD:PUBLISH
X-PUBLISHED-TTL:P3D
REFRESH-INTERVAL:P3D
CALSCALE:GREGORIAN
BEGIN:VEVENT
DTSTART:20240830T030000Z
DTEND:20240830T050000Z
X-MICROSOFT-CDO-ALLDAYEVENT:FALSE
SUMMARY:Kolohe Kai at the Alaska State Fair
DESCRIPTION:Restrictions: Fair admission is additional\; For concert-only tickets\, you will need to purchase additional Fair admission to attend. Convenience fees apply. Tickets with Fair admission offer ends August 15. Please note there is no seating at this concert.\n\nShow Type: Reggae\n\nGates Open: 5:30 PM\n\nKolohe Kai Biography\n\nHawaii-based reggae artist Kolohe Kai\, led by singer/songwriter Roman De Peralta\, entered the Pacific reggae scene in 2009 with the release of debut album\, This is the Life\, featuring hits like "Ehu Girl" and "Cool Down." A second all-original album\, Love Town\, came out in 2011.\n\nAfter a three-year break from the music scene\, Kolohe Kai returned in 2014 with the reggae-heavy album\, Paradise\, with favorites including "He'e Roa\," "Paradise" and "Good Morning Hawaii."\n\nKolohe Kai released its fourth full-length album\, Summer To Winter\, in 2019. Featuring the songs "Round and Around" and "Heartstrings\," the album was honored as the Album of the Year at the Island Music Awards.\n\nA live album in honor of its 10th anniversary and the Best of Kolohe Kai Acoustic album were both released in 2021\, followed by Kolohe Kai's latest album\, Hazel Eyes\, which came out in 2022 and includes the songs "I Think You're Beautiful\," "Feel the Sunshine" and "When the Rain Falls\n\nConocoPhillips Borealis Theatre And Ticket Info\n\nArrive early to make it through the security scan into the Borealis Theatre\, please read our bag policy here. Concert ticket prices do not include Fair admission. Convenience fees apply. Babes-in-arms admitted for free\; children aged 2 and up must have a ticket. During the Fair\, concert tickets may also be purchased on the fairgrounds at the Borealis Box Office\, across from the Borealis Theatre. The ConocoPhillips Borealis Theatre is an open-air theatre\; shows take place rain or shine. Both entrance gates open approximately one hour prior to the show. Personal chairs\, professional grade cameras\, cameras with detachable lenses and recording devices are strictly prohibited. There are 2 entry gates to the theatre\; a "wet" gate directly into the alcohol consumption areas and a "dry" gate accessible by all ages. If you enter through the "dry" gate\, you may cross into the "wet" area once you're inside the theatre. To access any area with alcohol consumption\, including entering through the "wet" gate\, you must be 21 or over and present a valid photo ID\, or be accompanied by a parent or legal guardian and present a valid photo ID.
X-ALT-DESC;FMTTYPE=text/html:<p style="margin: 5px 0px 10px\; padding: 0px\; border: 0px\; outline: 0px\; font-size: 1.125rem\; vertical-align: baseline\; background-image: initial\; background-position: 0px 0px\; background-size: initial\; background-repeat: initial\; background-attachment: initial\; background-origin: initial\; background-clip: initial\; line-height: 1.667\; text-rendering: optimizelegibility\; color: rgb(51\, 51\, 51)\; font-family: Arial\, Helvetica\, sans-serif\;"><span style="font-weight: 700\; margin: 0px\; padding: 0px\; border: 0px\; outline: 0px\; vertical-align: baseline\; background-image: initial\; background-position: 0px 0px\; background-size: initial\; background-repeat: initial\; background-attachment: initial\; background-origin: initial\; background-clip: initial\; color: rgb(57\, 97\, 40)\;">Restrictions:</span>&nbsp\;Fair admission is additional\; For concert-only tickets\, you will need to purchase additional Fair admission to attend. Convenience fees apply. Tickets with Fair admission offer ends August 15. Please note there is&nbsp\;<span style="font-weight: 700\; margin: 0px\; padding: 0px\; border: 0px\; outline: 0px\; vertical-align: baseline\; background-image: initial\; background-position: 0px 0px\; background-size: initial\; background-repeat: initial\; background-attachment: initial\; background-origin: initial\; background-clip: initial\; color: rgb(57\, 97\, 40)\;">no seating</span>&nbsp\;at this concert.<br />\n<span style="font-weight: 700\; margin: 0px\; padding: 0px\; border: 0px\; outline: 0px\; vertical-align: baseline\; background-image: initial\; background-position: 0px 0px\; background-size: initial\; background-repeat: initial\; background-attachment: initial\; background-origin: initial\; background-clip: initial\; color: rgb(57\, 97\, 40)\;">Show Type:</span>&nbsp\;Reggae<br />\n<span style="font-weight: 700\; margin: 0px\; padding: 0px\; border: 0px\; outline: 0px\; vertical-align: baseline\; background-image: initial\; background-position: 0px 0px\; background-size: initial\; background-repeat: initial\; background-attachment: initial\; background-origin: initial\; background-clip: initial\; color: rgb(57\, 97\, 40)\;">Gates Open:</span>&nbsp\;5:30 PM</p>\n\n<h3 class="wp-block-heading" style="margin: 18px 0px\; padding: 0px\; font-family: raleway\, Arial\, sans-serif\; border: 0px\; outline: 0px\; vertical-align: baseline\; background-image: initial\; background-position: 0px 0px\; background-size: initial\; background-repeat: initial\; background-attachment: initial\; background-origin: initial\; background-clip: initial\; line-height: 1em\; text-rendering: optimizelegibility\; text-transform: capitalize\; font-size: 1.5rem !important\;">Kolohe Kai Biography</h3>\n\n<p style="margin: 5px 0px 10px\; padding: 0px\; border: 0px\; outline: 0px\; font-size: 1.125rem\; vertical-align: baseline\; background-image: initial\; background-position: 0px 0px\; background-size: initial\; background-repeat: initial\; background-attachment: initial\; background-origin: initial\; background-clip: initial\; line-height: 1.667\; text-rendering: optimizelegibility\; color: rgb(51\, 51\, 51)\; font-family: Arial\, Helvetica\, sans-serif\;">Hawaii-based reggae artist Kolohe Kai\, led by singer/songwriter Roman De Peralta\, entered the Pacific reggae scene in 2009 with the release of debut album\,&nbsp\;<em style="margin: 0px\; padding: 0px\; border: 0px\; outline: 0px\; vertical-align: baseline\; background-image: initial\; background-position: 0px 0px\; background-size: initial\; background-repeat: initial\; background-attachment: initial\; background-origin: initial\; background-clip: initial\;">This is the Life</em>\, featuring hits like &ldquo\;Ehu Girl&rdquo\; and &ldquo\;Cool Down.&rdquo\; A second all-original album\,&nbsp\;<em style="margin: 0px\; padding: 0px\; border: 0px\; outline: 0px\; vertical-align: baseline\; background-image: initial\; background-position: 0px 0px\; background-size: initial\; background-repeat: initial\; background-attachment: initial\; background-origin: initial\; background-clip: initial\;">Love Town</em>\, came out in 2011.</p>\n\n<p style="margin: 5px 0px 10px\; padding: 0px\; border: 0px\; outline: 0px\; font-size: 1.125rem\; vertical-align: baseline\; background-image: initial\; background-position: 0px 0px\; background-size: initial\; background-repeat: initial\; background-attachment: initial\; background-origin: initial\; background-clip: initial\; line-height: 1.667\; text-rendering: optimizelegibility\; color: rgb(51\, 51\, 51)\; font-family: Arial\, Helvetica\, sans-serif\;">After a three-year break from the music scene\, Kolohe Kai returned in 2014 with the reggae-heavy album\,&nbsp\;<em style="margin: 0px\; padding: 0px\; border: 0px\; outline: 0px\; vertical-align: baseline\; background-image: initial\; background-position: 0px 0px\; background-size: initial\; background-repeat: initial\; background-attachment: initial\; background-origin: initial\; background-clip: initial\;">Paradise</em>\, with favorites including &ldquo\;He&rsquo\;e Roa\,&rdquo\; &ldquo\;Paradise&rdquo\; and &ldquo\;Good Morning Hawaii.&rdquo\;</p>\n\n<p style="margin: 5px 0px 10px\; padding: 0px\; border: 0px\; outline: 0px\; font-size: 1.125rem\; vertical-align: baseline\; background-image: initial\; background-position: 0px 0px\; background-size: initial\; background-repeat: initial\; background-attachment: initial\; background-origin: initial\; background-clip: initial\; line-height: 1.667\; text-rendering: optimizelegibility\; color: rgb(51\, 51\, 51)\; font-family: Arial\, Helvetica\, sans-serif\;">Kolohe Kai released its fourth full-length album\,&nbsp\;<em style="margin: 0px\; padding: 0px\; border: 0px\; outline: 0px\; vertical-align: baseline\; background-image: initial\; background-position: 0px 0px\; background-size: initial\; background-repeat: initial\; background-attachment: initial\; background-origin: initial\; background-clip: initial\;">Summer To Winter</em>\, in 2019. Featuring the songs &ldquo\;Round and Around&rdquo\; and &ldquo\;Heartstrings\,&rdquo\; the album was honored as the Album of the Year at the Island Music Awards.</p>\n\n<p style="margin: 5px 0px 10px\; padding: 0px\; border: 0px\; outline: 0px\; font-size: 1.125rem\; vertical-align: baseline\; background-image: initial\; background-position: 0px 0px\; background-size: initial\; background-repeat: initial\; background-attachment: initial\; background-origin: initial\; background-clip: initial\; line-height: 1.667\; text-rendering: optimizelegibility\; color: rgb(51\, 51\, 51)\; font-family: Arial\, Helvetica\, sans-serif\;">A live album in honor of its 10<span style="line-height: 1\; position: relative\; vertical-align: baseline\; top: -0.5em\; margin: 0px\; padding: 0px\; border: 0px\; outline: 0px\; background-image: initial\; background-position: 0px 0px\; background-size: initial\; background-repeat: initial\; background-attachment: initial\; background-origin: initial\; background-clip: initial\; height: 0px\; bottom: 0.8em\;">th</span>&nbsp\;anniversary and the&nbsp\;<em style="margin: 0px\; padding: 0px\; border: 0px\; outline: 0px\; vertical-align: baseline\; background-image: initial\; background-position: 0px 0px\; background-size: initial\; background-repeat: initial\; background-attachment: initial\; background-origin: initial\; background-clip: initial\;">Best of Kolohe Kai Acoustic</em>&nbsp\;album were both released in 2021\, followed by Kolohe Kai&rsquo\;s latest album\,&nbsp\;<em style="margin: 0px\; padding: 0px\; border: 0px\; outline: 0px\; vertical-align: baseline\; background-image: initial\; background-position: 0px 0px\; background-size: initial\; background-repeat: initial\; background-attachment: initial\; background-origin: initial\; background-clip: initial\;">Hazel Eyes</em>\, which came out in 2022 and includes the songs &ldquo\;I Think You&rsquo\;re Beautiful\,&rdquo\; &ldquo\;Feel the Sunshine&rdquo\; and &ldquo\;When the Rain Falls</p>\n\n<h3 style="margin: 18px 0px\; padding: 0px\; font-family: raleway\, Arial\, sans-serif\; border: 0px\; outline: 0px\; vertical-align: baseline\; background-image: initial\; background-position: 0px 0px\; background-size: initial\; background-repeat: initial\; background-attachment: initial\; background-origin: initial\; background-clip: initial\; line-height: 1em\; text-rendering: optimizelegibility\; text-transform: capitalize\; font-size: 1.5rem !important\;">ConocoPhillips Borealis Theatre And Ticket Info</h3>\n\n<p style="margin: 5px 0px 10px\; padding: 0px\; border: 0px\; outline: 0px\; font-size: 1.125rem\; vertical-align: baseline\; background-image: initial\; background-position: 0px 0px\; background-size: initial\; background-repeat: initial\; background-attachment: initial\; background-origin: initial\; background-clip: initial\; line-height: 1.667\; text-rendering: optimizelegibility\; color: rgb(51\, 51\, 51)\; font-family: Arial\, Helvetica\, sans-serif\;">Arrive early to make it through the security scan into the Borealis Theatre\, please read our bag policy here. Concert ticket prices do not include Fair admission. Convenience fees apply. Babes-in-arms admitted for free\; children aged 2 and up must have a ticket. During the Fair\, concert tickets may also be purchased on the fairgrounds at the Borealis Box Office\, across from the Borealis Theatre. The ConocoPhillips Borealis Theatre is an open-air theatre\; shows take place rain or shine. Both entrance gates open approximately one hour prior to the show. Personal chairs\, professional grade cameras\, cameras with detachable lenses and recording devices are strictly prohibited. There are 2 entry gates to the theatre\; a &ldquo\;wet&rdquo\; gate directly into the alcohol consumption areas and a &ldquo\;dry&rdquo\; gate accessible by all ages. If you enter through the &ldquo\;dry&rdquo\; gate\, you may cross into the &ldquo\;wet&rdquo\; area once you&rsquo\;re inside the theatre. To access any area with alcohol consumption\, including entering through the &ldquo\;wet&rdquo\; gate\, you must be 21 or over and present a valid photo ID\, or be accompanied by a parent or legal guardian and present a valid photo ID.</p>\n
LOCATION:Alaska State Fair Grounds
UID:e.3185.21933
SEQUENCE:3
DTSTAMP:20260425T140934Z
URL:https://business.wasillachamber.org/events/details/kolohe-kai-at-the-alaska-state-fair-21933
END:VEVENT

END:VCALENDAR
