BEGIN:VCALENDAR
VERSION:2.0
PRODID:-//ChamberMaster//Event Calendar 2.0//EN
METHOD:PUBLISH
X-PUBLISHED-TTL:P3D
REFRESH-INTERVAL:P3D
CALSCALE:GREGORIAN
BEGIN:VEVENT
DTSTART;VALUE=DATE:20231025
DTEND;VALUE=DATE:20231026
TRANSP:TRANSPARENT
X-MICROSOFT-CDO-ALLDAYEVENT:TRUE
SUMMARY:Kids Eat Free at Smashburger
DESCRIPTION:Kids Eat Free Every Wednesday Promotion. (January 1\, 2023   December 31\, 2023). Offer valid only on Wednesdays from 1/1/23   12/31/23\, in-store only at participating Smashburger  locations during regular business hours. Offer for the value of a Kids Meal only with minimum purchase of adult meal (entr e\, side\, & drink). Valid for Kids 12 & under only. Offer not valid online\, in app\, or on third party delivery services. Cannot be used in conjunction with any other offer\, promotion\, or discount. Not valid on previous purchases. No substitutions. Company reserves the right to withdraw\, or change\, the offer's terms and conditions at any time\, at Smashburger's discretion\, and without notice. While supplies last.  2023 Smashburger IP Holder LLC. All Rights Reserved
X-ALT-DESC;FMTTYPE=text/html:<div class="xdj266r x11i5rnm xat24cr x1mh8g0r x1vvkbs x126k92a" style="margin: 0px\; white-space: pre-wrap\; overflow-wrap: break-word\; font-family: &quot\;Segoe UI Historic&quot\;\, &quot\;Segoe UI&quot\;\, Helvetica\, Arial\, sans-serif\; color: rgb(5\, 5\, 5)\; font-size: 15px\;">\n<div dir="auto" style="font-family: inherit\;"><span style="color: rgb(34\, 34\, 34)\; font-family: Barlow\, &quot\;Barlow Fallback&quot\;\, ui-sans-serif\, system-ui\, -apple-system\, BlinkMacSystemFont\, &quot\;Segoe UI&quot\;\, Roboto\, &quot\;Helvetica Neue&quot\;\, Arial\, &quot\;Noto Sans&quot\;\, sans-serif\, &quot\;Apple Color Emoji&quot\;\, &quot\;Segoe UI Emoji&quot\;\, &quot\;Segoe UI Symbol&quot\;\, &quot\;Noto Color Emoji&quot\;\; font-size: 18px\;">Kids Eat Free Every Wednesday Promotion. (January 1\, 2023 &ndash\; December 31\, 2023). Offer valid only on Wednesdays from 1/1/23 &ndash\; 12/31/23\, in-store only at participating Smashburger&reg\; locations during regular business hours. Offer for the value of a Kids Meal only with minimum purchase of adult meal (entr&eacute\;e\, side\, &amp\; drink). Valid for Kids 12 &amp\; under only. Offer not valid online\, in app\, or on third party delivery services. Cannot be used in conjunction with any other offer\, promotion\, or discount. Not valid on previous purchases. No substitutions. Company reserves the right to withdraw\, or change\, the offer&rsquo\;s terms and conditions at any time\, at Smashburger&rsquo\;s discretion\, and without notice. While supplies last. &copy\;2023 Smashburger IP Holder LLC. All Rights Reserved</span></div>\n</div>\n
LOCATION:Smashburger in Anchorage and Wasilla
UID:e.3185.20880
SEQUENCE:3
DTSTAMP:20260423T144319Z
URL:https://business.wasillachamber.org/events/details/kids-eat-free-at-smashburger-10-25-2023-20880
END:VEVENT

END:VCALENDAR
