BEGIN:VCALENDAR
VERSION:2.0
PRODID:-//ChamberMaster//Event Calendar 2.0//EN
METHOD:PUBLISH
X-PUBLISHED-TTL:P3D
REFRESH-INTERVAL:P3D
CALSCALE:GREGORIAN
BEGIN:VEVENT
DTSTART:20230115T173000Z
DTEND:20230115T220000Z
X-MICROSOFT-CDO-ALLDAYEVENT:FALSE
SUMMARY:Jr Patrol at Skeetawk
DESCRIPTION:This Sunday will be our first Jr Patrol event of 2023!\n\n\n\nMake sure to sign your kiddos up for January 15th! Ages 11-17 years old.\n\n\n\nAll homeschool students are eligible for reimbursement through your program!\n\n\n\nRegister here!
X-ALT-DESC;FMTTYPE=text/html:<div class="x11i5rnm xat24cr x1mh8g0r x1vvkbs xdj266r x126k92a" style="margin: 0px\; white-space: pre-wrap\; overflow-wrap: break-word\; font-family: &quot\;Segoe UI Historic&quot\;\, &quot\;Segoe UI&quot\;\, Helvetica\, Arial\, sans-serif\; color: rgb(5\, 5\, 5)\; font-size: 15px\;">\n<div dir="auto" style="font-family: inherit\;">This Sunday will be our first Jr Patrol event of 2023!</div>\n</div>\n\n<div class="x11i5rnm xat24cr x1mh8g0r x1vvkbs xtlvy1s x126k92a" style="margin: 0.5em 0px 0px\; white-space: pre-wrap\; overflow-wrap: break-word\; font-family: &quot\;Segoe UI Historic&quot\;\, &quot\;Segoe UI&quot\;\, Helvetica\, Arial\, sans-serif\; color: rgb(5\, 5\, 5)\; font-size: 15px\;">\n<div dir="auto" style="font-family: inherit\;">Make sure to sign your kiddos up for January 15th! Ages 11-17 years old.</div>\n</div>\n\n<div class="x11i5rnm xat24cr x1mh8g0r x1vvkbs xtlvy1s x126k92a" style="margin: 0.5em 0px 0px\; white-space: pre-wrap\; overflow-wrap: break-word\; font-family: &quot\;Segoe UI Historic&quot\;\, &quot\;Segoe UI&quot\;\, Helvetica\, Arial\, sans-serif\; color: rgb(5\, 5\, 5)\; font-size: 15px\;">\n<div dir="auto" style="font-family: inherit\;">All homeschool students are eligible for reimbursement through your program!</div>\n</div>\n\n<div class="x11i5rnm xat24cr x1mh8g0r x1vvkbs xtlvy1s x126k92a" style="margin: 0.5em 0px 0px\; white-space: pre-wrap\; overflow-wrap: break-word\; font-family: &quot\;Segoe UI Historic&quot\;\, &quot\;Segoe UI&quot\;\, Helvetica\, Arial\, sans-serif\; color: rgb(5\, 5\, 5)\; font-size: 15px\;">\n<div dir="auto" style="font-family: inherit\;"><span style="font-family: inherit\;"></span>Register <a href="https://fareharbor.com/embeds/book/skeetawk/items/414825/availability/1078653916/book/?flow=834686&amp\;fbclid=IwAR0YE6EGKBXcKK7HSvswb3EG_LCTNxxCd0V3eBRc7f_bZ1l8bv0n9lp-fu8&amp\;back=https://skeetawk.com/event/jr-ski-patrol&amp\;a=yes&amp\;g4=yes">here</a>!</div>\n</div>\n
LOCATION:Skeetawk 13500 N. Skeetawk Cir. Palmer\, AK 99645
UID:e.3185.18567
SEQUENCE:3
DTSTAMP:20260420T185537Z
URL:https://business.wasillachamber.org/events/details/jr-patrol-at-skeetawk-18567
END:VEVENT

END:VCALENDAR
