BEGIN:VCALENDAR
VERSION:2.0
PRODID:-//ChamberMaster//Event Calendar 2.0//EN
METHOD:PUBLISH
X-PUBLISHED-TTL:P3D
REFRESH-INTERVAL:P3D
CALSCALE:GREGORIAN
BEGIN:VEVENT
DTSTART:20231026T020000Z
DTEND:20231026T033000Z
X-MICROSOFT-CDO-ALLDAYEVENT:FALSE
SUMMARY:Jog & Jabber with AKtive Soles
DESCRIPTION:From AKtive Soles Performance Footwear \n\n"Introducing the Jog & Jabber! Our first one will be on Wednesday\, October 25th starting at 6pm. We will be running/jogging three miles together and following it up with a fun community discussion about.. you guessed it RUNNING. The Jog & Jabber will be starting and ending at our Wasilla location.\n\n\n\nPut the dates on your calendar and stay tuned for more information."\n\n\n\nLight refreshments included. Free to participate.\n\n\n\nOctober 25th: Winter Running: How to Dress for Success\n\nDecember 6th: Recovery & Foot Health\n\nJanuary 10th: Tips on Fueling\n\nFebruary 21st: Metrics & Devices\n\n\n\n6PM-6:45PM 3 mile run/jog\n\n6:45PM-7:30PM short presentation & group dialogue
X-ALT-DESC;FMTTYPE=text/html:<span style="color: rgb(5\, 5\, 5)\; font-family: &quot\;Segoe UI Historic&quot\;\, &quot\;Segoe UI&quot\;\, Helvetica\, Arial\, sans-serif\; font-size: 15px\;"><strong>From AKtive Soles Performance Footwear </strong><br />\n&quot\;Introducing the Jog &amp\; Jabber! Our first one will be on Wednesday\, October 25th starting at 6pm. We will be running/jogging three miles together and following it up with a fun community discussion about.. you guessed it RUNNING. The Jog &amp\; Jabber will be starting and ending at our Wasilla location.</span><br style="color: rgb(5\, 5\, 5)\; font-family: &quot\;Segoe UI Historic&quot\;\, &quot\;Segoe UI&quot\;\, Helvetica\, Arial\, sans-serif\; font-size: 15px\;" />\n<br style="color: rgb(5\, 5\, 5)\; font-family: &quot\;Segoe UI Historic&quot\;\, &quot\;Segoe UI&quot\;\, Helvetica\, Arial\, sans-serif\; font-size: 15px\;" />\n<span style="color: rgb(5\, 5\, 5)\; font-family: &quot\;Segoe UI Historic&quot\;\, &quot\;Segoe UI&quot\;\, Helvetica\, Arial\, sans-serif\; font-size: 15px\;">Put the dates on your calendar and stay tuned for more information.&quot\;<br />\n<br />\nLight refreshments included. Free to participate.</span><br />\n<br />\nOctober 25th: Winter Running: How to Dress for Success<br />\nDecember 6th: Recovery &amp\; Foot Health<br />\nJanuary 10th: Tips on Fueling<br />\nFebruary 21st: Metrics &amp\; Devices<br />\n<br />\n6PM-6:45PM 3 mile run/jog<br />\n6:45PM-7:30PM short presentation &amp\; group dialogue
LOCATION:Starting and Ending at AKtive Soles Performance Footwear in Wasilla 984 N Meridian Pl\, Wasilla\, AK 99654
UID:e.3185.21248
SEQUENCE:3
DTSTAMP:20260423T143935Z
URL:https://business.wasillachamber.org/events/details/jog-jabber-with-aktive-soles-21248
END:VEVENT

END:VCALENDAR
