BEGIN:VCALENDAR
VERSION:2.0
PRODID:-//ChamberMaster//Event Calendar 2.0//EN
METHOD:PUBLISH
X-PUBLISHED-TTL:P3D
REFRESH-INTERVAL:P3D
CALSCALE:GREGORIAN
BEGIN:VEVENT
DTSTART;VALUE=DATE:20231013
DTEND;VALUE=DATE:20231014
TRANSP:TRANSPARENT
X-MICROSOFT-CDO-ALLDAYEVENT:TRUE
SUMMARY:Iron Dog 2024 Pro Class Entry Deadline
DESCRIPTION:Registration for the 2024 race is open!\n\nPro Race entry will close October 13th at midnight. Register here.\n\nOnline payment is now open or call the Iron Dog Office at 907-563-4414 to pay entry fee. Credit card or check accepted.
X-ALT-DESC;FMTTYPE=text/html:Registration for the 2024 race is open!<br />\nPro Race entry will close October 13th at midnight. <a href="https://www.irondog.org/">Register here.</a><br />\nOnline payment is now open or call the Iron Dog Office at 907-563-4414 to pay entry fee. Credit card or check accepted.
LOCATION:
UID:e.3185.21225
SEQUENCE:3
DTSTAMP:20260423T143803Z
URL:https://business.wasillachamber.org/events/details/iron-dog-2024-pro-class-entry-deadline-21225
END:VEVENT

END:VCALENDAR
