BEGIN:VCALENDAR
VERSION:2.0
PRODID:-//ChamberMaster//Event Calendar 2.0//EN
METHOD:PUBLISH
X-PUBLISHED-TTL:P3D
REFRESH-INTERVAL:P3D
CALSCALE:GREGORIAN
BEGIN:VEVENT
DTSTART:20231101T023000Z
DTEND:20231101T043000Z
X-MICROSOFT-CDO-ALLDAYEVENT:FALSE
SUMMARY:Halloween Spooktacular
DESCRIPTION:Free Public Skate! Skate rental is $5 is needed. Candy and Hot Cocoa provided!
X-ALT-DESC;FMTTYPE=text/html:Free Public Skate! Skate rental is $5 is needed. Candy and Hot Cocoa provided!
LOCATION:The Menard Sports & Events Center 1001 S Clapp St\, Wasilla\, AK 99654
UID:e.3185.21370
SEQUENCE:3
DTSTAMP:20260423T143711Z
URL:https://business.wasillachamber.org/events/details/halloween-spooktacular-21370
END:VEVENT

END:VCALENDAR
