BEGIN:VCALENDAR
VERSION:2.0
PRODID:-//ChamberMaster//Event Calendar 2.0//EN
METHOD:PUBLISH
X-PUBLISHED-TTL:P3D
REFRESH-INTERVAL:P3D
CALSCALE:GREGORIAN
BEGIN:VEVENT
DTSTART:20231017T193000Z
DTEND:20231017T210000Z
X-MICROSOFT-CDO-ALLDAYEVENT:FALSE
SUMMARY:GWCC Luncheon
DESCRIPTION:Join us for luncheon on October 17th downstairs in the banquet room at Evangelo's Restaurant.\n\n\n\nOur October 17th luncheon will feature a keynote presentation by Mat-Su Borough Planning with an update on the MSB Comprehensive Plan.\n\n\n\nWe will also have introductions from the Mat-Su Borough Assembly Candidates.\n\n\n\n***Advanced Registration is Requested***\n\nThis is only to allow us to give our hosts a rough estimate of attendees so they can prepare enough seats.\n\n\n\nIf you are interested in speaking at one of our Chamber Luncheons\, please email Jessica detailing who you are\, your company\, and what you would like to speak about.\n\n\n\nOur luncheons are hosted at Evangelo's Restaurant in Wasilla on the 1st and 3rd Tuesday of each month\, unless otherwise noted.\n\n\n\nCheck in begins at 11:30AM\, program begins at 12PM and ends at 1PM.\n\n\n\nIf you would like to donate anything to the door prizes\, don't forget to bring them along!
X-ALT-DESC;FMTTYPE=text/html:<span style="border: 0px\; margin: 0px\; padding: 0px\; box-sizing: border-box\; font-size: 17px\; font-weight: 700\; font-family: arial\;"><span style="border: none\; margin: 0px\; padding: 0px\; box-sizing: content-box\; inset: auto\; clear: none\; content: normal\; direction: inherit\; empty-cells: show\; font-style: inherit\; font-variant: inherit\; font-weight: bolder\; font-stretch: inherit\; font-size: 18px\; letter-spacing: inherit\; line-height: inherit\; max-height: none\; max-width: none\; min-height: initial\; min-width: initial\; opacity: 1\; outline-offset: 0px\; overflow: visible\; position: static\; resize: none\; table-layout: auto\; text-align: inherit\; text-indent: inherit\; text-overflow: clip\; text-transform: inherit\; vertical-align: baseline\; visibility: inherit\; white-space: inherit\; word-break: inherit\; word-spacing: inherit\; overflow-wrap: inherit\; z-index: auto\; background-image: none\; background-position: initial\; background-size: initial\; background-repeat: initial\; background-attachment: initial\; background-origin: initial\; background-clip: initial\; border-collapse: separate\; border-radius: 0px\; height: auto\; width: auto\; box-shadow: none\;">Join us for luncheon o</span><span style="border: none\; margin: 0px\; padding: 0px\; box-sizing: content-box\; inset: auto\; clear: none\; content: normal\; direction: inherit\; empty-cells: show\; font-style: inherit\; font-variant: inherit\; font-weight: bolder\; font-stretch: inherit\; font-size: 18px\; letter-spacing: inherit\; line-height: inherit\; max-height: none\; max-width: none\; min-height: initial\; min-width: initial\; opacity: 1\; outline-offset: 0px\; overflow: visible\; position: static\; resize: none\; table-layout: auto\; text-align: inherit\; text-indent: inherit\; text-overflow: clip\; text-transform: inherit\; vertical-align: baseline\; visibility: inherit\; white-space: inherit\; word-break: inherit\; word-spacing: inherit\; overflow-wrap: inherit\; z-index: auto\; background-image: none\; background-position: initial\; background-size: initial\; background-repeat: initial\; background-attachment: initial\; background-origin: initial\; background-clip: initial\; border-collapse: separate\; border-radius: 0px\; height: auto\; width: auto\; box-shadow: none\;">n October 17th downstairs in the banquet room at Evangelo&#39\;s Restaurant.<br />\n<br />\nOur October 17th luncheon will feature a keynote presentation by <a href="https://planning.matsugov.us/">Mat-Su Borough&nbsp\;Planning</a>&nbsp\;with an update on the <a href="https://matsugov.us/plans/borough-wide-comprehensive-plan">MSB Comprehensive Plan</a>.<br />\n<br />\nWe will also have introductions from the <a href="https://matsugov.us/docs/general/22633/Election-Candidates-2023-Election-2023-Candidate-list-Final.pdf">Mat-Su Borough Assembly Candidates.</a></span></span><br />\n<br style="box-sizing: border-box\;" />\n<span style="border: 0px\; margin: 0px\; padding: 0px\; box-sizing: border-box\; font-size: 17px\; font-weight: 700\; font-family: arial\;"><span style="border: none\; margin: 0px\; padding: 0px\; box-sizing: content-box\; inset: auto\; clear: none\; content: normal\; direction: inherit\; empty-cells: show\; font-style: inherit\; font-variant: inherit\; font-weight: bolder\; font-stretch: inherit\; font-size: 18px\; letter-spacing: inherit\; line-height: inherit\; max-height: none\; max-width: none\; min-height: initial\; min-width: initial\; opacity: 1\; outline-offset: 0px\; overflow: visible\; position: static\; resize: none\; table-layout: auto\; text-align: inherit\; text-indent: inherit\; text-overflow: clip\; text-transform: inherit\; vertical-align: baseline\; visibility: inherit\; white-space: inherit\; word-break: inherit\; word-spacing: inherit\; overflow-wrap: inherit\; z-index: auto\; background-image: none\; background-position: initial\; background-size: initial\; background-repeat: initial\; background-attachment: initial\; background-origin: initial\; background-clip: initial\; border-collapse: separate\; border-radius: 0px\; height: auto\; width: auto\; box-shadow: none\;">***Advanced Registration is Requested***<br />\n<em>This is only to allow us to give our hosts a rough estimate of attendees so they can prepare enough seats.</em></span><br style="box-sizing: content-box\; color: inherit\; font: inherit\; letter-spacing: inherit\; text-align: inherit\; text-indent: inherit\; text-transform: inherit\; white-space: inherit\; word-spacing: inherit\; inset: auto\; clear: none\; content: normal\; direction: inherit\; display: inline\; empty-cells: show\; float: none\; margin: 0px\; max-height: none\; max-width: none\; min-height: initial\; min-width: initial\; opacity: 1\; outline-offset: 0px\; overflow: visible\; padding: 0px\; position: static\; resize: none\; table-layout: auto\; text-overflow: clip\; vertical-align: baseline\; visibility: inherit\; word-break: inherit\; overflow-wrap: inherit\; z-index: auto\; background-image: none\; background-position: initial\; background-size: initial\; background-repeat: initial\; background-attachment: initial\; background-origin: initial\; background-clip: initial\; border: none\; border-collapse: separate\; border-radius: 0px\; height: auto\; width: auto\;" />\n<br style="box-sizing: content-box\; color: inherit\; font: inherit\; letter-spacing: inherit\; text-align: inherit\; text-indent: inherit\; text-transform: inherit\; white-space: inherit\; word-spacing: inherit\; inset: auto\; clear: none\; content: normal\; direction: inherit\; display: inline\; empty-cells: show\; float: none\; margin: 0px\; max-height: none\; max-width: none\; min-height: initial\; min-width: initial\; opacity: 1\; outline-offset: 0px\; overflow: visible\; padding: 0px\; position: static\; resize: none\; table-layout: auto\; text-overflow: clip\; vertical-align: baseline\; visibility: inherit\; word-break: inherit\; overflow-wrap: inherit\; z-index: auto\; background-image: none\; background-position: initial\; background-size: initial\; background-repeat: initial\; background-attachment: initial\; background-origin: initial\; background-clip: initial\; border: none\; border-collapse: separate\; border-radius: 0px\; height: auto\; width: auto\;" />\n<span style="border: 0px\; margin: 0px\; padding: 0px\; box-sizing: border-box\; font-size: 18px\;">If you are interested in speaking at one of our Chamber Luncheons\, please</span><span style="border: none\; margin: 0px\; padding: 0px\; box-sizing: content-box\; inset: auto\; clear: none\; content: normal\; direction: inherit\; empty-cells: show\; font-style: inherit\; font-variant: inherit\; font-weight: bolder\; font-stretch: inherit\; font-size: 18px\; letter-spacing: inherit\; line-height: inherit\; max-height: none\; max-width: none\; min-height: initial\; min-width: initial\; opacity: 1\; outline-offset: 0px\; overflow: visible\; position: static\; resize: none\; table-layout: auto\; text-align: inherit\; text-indent: inherit\; text-overflow: clip\; text-transform: inherit\; vertical-align: baseline\; visibility: inherit\; white-space: inherit\; word-break: inherit\; word-spacing: inherit\; overflow-wrap: inherit\; z-index: auto\; background-image: none\; background-position: initial\; background-size: initial\; background-repeat: initial\; background-attachment: initial\; background-origin: initial\; background-clip: initial\; border-collapse: separate\; border-radius: 0px\; height: auto\; width: auto\; box-shadow: none\;">&nbsp\;<a href="mailto:jessica@wasillachamber.org" style="border: none\; margin: 0px\; padding: 0px\; background: none\; transition: color 0.1s ease-in-out 0s\, background-color 0.1s ease-in-out 0s\; text-decoration-line: none\; color: rgb(178\, 5\, 0)\; box-sizing: content-box\; overflow-wrap: break-word\; inset: auto\; clear: none\; content: normal\; direction: inherit\; display: inline\; empty-cells: show\; float: none\; font: inherit\; letter-spacing: inherit\; max-height: none\; max-width: none\; min-height: initial\; min-width: initial\; opacity: 1\; outline-offset: 0px\; overflow: visible\; position: static\; resize: none\; table-layout: auto\; text-align: inherit\; text-indent: inherit\; text-overflow: clip\; text-transform: inherit\; vertical-align: baseline\; visibility: inherit\; white-space: inherit\; word-break: inherit\; word-spacing: inherit\; z-index: auto\; border-collapse: separate\; border-radius: 0px\; height: auto\; width: auto\; box-shadow: none\;">email Jessica</a>&nbsp\;</span></span><font face="arial\, sans-serif" style="border: 0px\; margin: 0px\; padding: 0px\; box-sizing: border-box\; font-size: 17px\; font-weight: 700\;"><span style="border: none\; margin: 0px\; padding: 0px\; box-sizing: content-box\; inset: auto\; clear: none\; content: normal\; direction: inherit\; empty-cells: show\; font-style: inherit\; font-variant: inherit\; font-weight: inherit\; font-stretch: inherit\; font-size: 18px\; font-family: inherit\; letter-spacing: inherit\; line-height: inherit\; max-height: none\; max-width: none\; min-height: initial\; min-width: initial\; opacity: 1\; outline-offset: 0px\; overflow: visible\; position: static\; resize: none\; table-layout: auto\; text-align: inherit\; text-indent: inherit\; text-overflow: clip\; text-transform: inherit\; vertical-align: baseline\; visibility: inherit\; white-space: inherit\; word-break: inherit\; word-spacing: inherit\; overflow-wrap: inherit\; z-index: auto\; background: none\; border-collapse: separate\; border-radius: 0px\; height: auto\; width: auto\; box-shadow: none\;"><span style="border: none\; margin: 0px\; padding: 0px\; box-sizing: content-box\; inset: auto\; clear: none\; content: normal\; direction: inherit\; empty-cells: show\; font-style: inherit\; font-variant: inherit\; font-weight: bolder\; font-stretch: inherit\; font-size: inherit\; font-family: inherit\; letter-spacing: inherit\; line-height: inherit\; max-height: none\; max-width: none\; min-height: initial\; min-width: initial\; opacity: 1\; outline-offset: 0px\; overflow: visible\; position: static\; resize: none\; table-layout: auto\; text-align: inherit\; text-indent: inherit\; text-overflow: clip\; text-transform: inherit\; vertical-align: baseline\; visibility: inherit\; white-space: inherit\; word-break: inherit\; word-spacing: inherit\; overflow-wrap: inherit\; z-index: auto\; background: none\; border-collapse: separate\; border-radius: 0px\; height: auto\; width: auto\; box-shadow: none\;"><span style="border: 0px\; margin: 0px\; padding: 0px\; box-sizing: border-box\; font-family: arial\;">detailing who you are\, your company\, and what you would like to speak about.</span><br style="box-sizing: border-box\;" />\n<br style="box-sizing: border-box\;" />\nOur luncheons are hosted at Evangelo&#39\;s Restaurant in Wasilla on the 1st and 3rd Tuesday of each month\, unless otherwise noted.<br />\n<br style="box-sizing: border-box\;" />\nCheck in begins at 11:30AM\, program begins at 12PM and ends at 1PM.<br style="box-sizing: border-box\;" />\n<br style="box-sizing: border-box\;" />\nIf you would like to donate anything to the door prizes\, don&#39\;t forget to bring them along!</span></span></font>
LOCATION:Evangelo's Restaurant 2350 E. Parks Hwy. Wasilla\, AK 99654
UID:e.3185.21082
SEQUENCE:3
DTSTAMP:20260423T143618Z
URL:https://business.wasillachamber.org/events/details/gwcc-luncheon-21082
END:VEVENT

END:VCALENDAR
