BEGIN:VCALENDAR
VERSION:2.0
PRODID:-//ChamberMaster//Event Calendar 2.0//EN
METHOD:PUBLISH
X-PUBLISHED-TTL:P3D
REFRESH-INTERVAL:P3D
CALSCALE:GREGORIAN
BEGIN:VEVENT
DTSTART:20280823T200000Z
DTEND:20280823T210000Z
X-MICROSOFT-CDO-ALLDAYEVENT:FALSE
SUMMARY:GWCC Governance Committee
DESCRIPTION:Meeting of the Greater Wasilla Chamber of Commerce Governance Committee.
X-ALT-DESC;FMTTYPE=text/html:Meeting of the Greater Wasilla Chamber of Commerce Governance Committee.
LOCATION:Greater Wasilla Chamber of Commerce 1155 E. Depot Rd. Wasilla AK 99654
UID:e.3185.23124
SEQUENCE:3
DTSTAMP:20260424T134647Z
URL:https://business.wasillachamber.org/events/details/governance-committee-08-23-2028-23124
END:VEVENT

END:VCALENDAR
