BEGIN:VCALENDAR
VERSION:2.0
PRODID:-//ChamberMaster//Event Calendar 2.0//EN
METHOD:PUBLISH
X-PUBLISHED-TTL:P3D
REFRESH-INTERVAL:P3D
CALSCALE:GREGORIAN
BEGIN:VEVENT
DTSTART:20230111T190000Z
DTEND:20230111T210000Z
X-MICROSOFT-CDO-ALLDAYEVENT:FALSE
SUMMARY:First National Bank Workshop Wednesdays: Free Webinars
DESCRIPTION:First National Bank of Alaska Workshop Wednesdays: Free Webinar\nClimbing the Fed's Ladder\n\nLearn how liquidity and short-duration investments stand to benefit from the Fed's inflation policies in 2023 during this live webinar with special guest Deborah Cunningham\, Chief Investment Officer at Federated Hermes.\n\nWednesday\, Jan. 11 @ 10 a.m.  Alaska Time
X-ALT-DESC;FMTTYPE=text/html:First National Bank of Alaska Workshop Wednesdays: Free Webinar\n<h2 style="box-sizing: border-box\; font-family: Kefa\, Georgia\, &quot\;Times New Roman&quot\;\, Times\, serif\; line-height: 1.1\; color: rgb(122\, 26\, 58)\; margin-top: 20px\; margin-bottom: 15px\; font-size: 22px\; border-bottom: 3px solid rgb(122\, 26\, 58)\; padding-bottom: 5px\; display: inline-block\;"><span style="box-sizing: border-box\; font-weight: 700\; -webkit-font-smoothing: antialiased\;">Climbing the Fed&rsquo\;s Ladder</span></h2>\n\n<p style="box-sizing: border-box\; margin: 0px 0px 10px\; font-family: &quot\;Avenir Next&quot\;\, &quot\;Helvetica Neue&quot\;\, Helvetica\, Arial\, sans-serif\; line-height: 1.9\; color: rgb(0\, 0\, 0)\; font-size: 14px\;">Learn how liquidity and short-duration investments stand to benefit from the Fed&rsquo\;s inflation policies in 2023 during this live webinar with special guest Deborah Cunningham\, Chief Investment Officer at Federated Hermes.</p>\n\n<p style="box-sizing: border-box\; margin: 0px 0px 10px\; font-family: &quot\;Avenir Next&quot\;\, &quot\;Helvetica Neue&quot\;\, Helvetica\, Arial\, sans-serif\; line-height: 1.9\; color: rgb(0\, 0\, 0)\; font-size: 14px\;"><span style="box-sizing: border-box\; font-weight: 700\; -webkit-font-smoothing: antialiased\;">Wednesday\, Jan. 11 @ 10 a.m.&nbsp\; Alaska Time</span></p>\n
LOCATION:Online
UID:e.3185.17765
SEQUENCE:3
DTSTAMP:20260420T185752Z
URL:https://business.wasillachamber.org/events/details/first-national-bank-workshop-wednesdays-free-webinars-17765
END:VEVENT

END:VCALENDAR
