BEGIN:VCALENDAR
VERSION:2.0
PRODID:-//ChamberMaster//Event Calendar 2.0//EN
METHOD:PUBLISH
X-PUBLISHED-TTL:P3D
REFRESH-INTERVAL:P3D
CALSCALE:GREGORIAN
BEGIN:VEVENT
DTSTART:20231025T180000Z
DTEND:20231025T190000Z
X-MICROSOFT-CDO-ALLDAYEVENT:FALSE
SUMMARY:First National Bank of Alaska Workshop Wednesdays: Free Webinar
DESCRIPTION:Join First National Bank for Workshop Wednesdays Free Webinars\n\nOctober 25th will feature cybersecurity for businesses.\n\nLearn how to identify threats and train employees to help safeguard your business.\n\nRegister here
X-ALT-DESC;FMTTYPE=text/html:<p style="box-sizing: border-box\; margin: 0px 0px 10px\; font-family: &quot\;Avenir Next&quot\;\, &quot\;Helvetica Neue&quot\;\, Helvetica\, Arial\, sans-serif\; line-height: 1.9\; color: rgb(0\, 0\, 0)\; font-size: 14px\;">Join First National Bank for Workshop Wednesdays Free Webinars<br />\nOctober 25th will feature cybersecurity for businesses.<br />\nLearn how to identify threats and train employees to help safeguard your business.<br />\nRegister <a href="https://fnbalaska.zoom.us/webinar/register/WN_oVB5eqyjQAi2BQIicC-a2A#/registration">here</a></p>\n
LOCATION:Online
UID:e.3185.21190
SEQUENCE:3
DTSTAMP:20260423T144350Z
URL:https://business.wasillachamber.org/events/details/first-national-bank-of-alaska-workshop-wednesdays-free-webinar-21190
END:VEVENT

END:VCALENDAR
