BEGIN:VCALENDAR
VERSION:2.0
PRODID:-//ChamberMaster//Event Calendar 2.0//EN
METHOD:PUBLISH
X-PUBLISHED-TTL:P3D
REFRESH-INTERVAL:P3D
CALSCALE:GREGORIAN
BEGIN:VEVENT
DTSTART:20231003T010000Z
DTEND:20231003T020000Z
X-MICROSOFT-CDO-ALLDAYEVENT:FALSE
SUMMARY:Firelight Book Club Meeting at Wasilla Public Library
DESCRIPTION:All are welcome to join for the meeting of the Firelight Book Club\, a monthly adult book club sponsored by the Friends of the Wasilla Public Library that meets by the library's fireplace. October Firelight Book Club:  The Lincoln Highway\n\n\n\nCopies are available for checkout at the Wasilla Public Library.
X-ALT-DESC;FMTTYPE=text/html:<span style="color: rgb(73\, 76\, 84)\; font-family: &quot\;Source Sans Pro&quot\;\, sans-serif\; font-size: 16px\; letter-spacing: 0.32px\;">All are welcome to join for the meeting of the Firelight Book Club\, a monthly adult book club sponsored by the Friends of the Wasilla Public Library that meets by the library&#39\;s fireplace. October Firelight Book Club:&nbsp\; The Lincoln Highway</span><br />\n<br />\n<span style="color: rgb(73\, 76\, 84)\; font-family: &quot\;Source Sans Pro&quot\;\, sans-serif\; font-size: 16px\; letter-spacing: 0.32px\;">Copies are available for checkout at the Wasilla Public Library.</span><br />\n&nbsp\;
LOCATION:Wasilla Public Library 500 N. Crusey St\, Wasilla\, AK 99654
UID:e.3185.20866
SEQUENCE:3
DTSTAMP:20260423T144116Z
URL:https://business.wasillachamber.org/events/details/firelight-book-club-meeting-at-wasilla-public-library-20866
END:VEVENT

END:VCALENDAR
