BEGIN:VCALENDAR
VERSION:2.0
PRODID:-//ChamberMaster//Event Calendar 2.0//EN
METHOD:PUBLISH
X-PUBLISHED-TTL:P3D
REFRESH-INTERVAL:P3D
CALSCALE:GREGORIAN
BEGIN:VEVENT
DTSTART:20231021T020000Z
DTEND:20231021T040000Z
X-MICROSOFT-CDO-ALLDAYEVENT:FALSE
SUMMARY:Family Hang Out Night at Black Birch Books
DESCRIPTION:Grab your family or bestie and head to Black Birch Books for a fun evening of snacks\, board games and movies!\n\n*Some snacks will be provided. Bringing some to share is encouraged! *This event is FREE. Donations are always appreciated.
X-ALT-DESC;FMTTYPE=text/html:<div class="xdj266r x11i5rnm xat24cr x1mh8g0r x1vvkbs" style="margin: 0px\; overflow-wrap: break-word\; font-family: &quot\;Segoe UI Historic&quot\;\, &quot\;Segoe UI&quot\;\, Helvetica\, Arial\, sans-serif\; color: rgb(5\, 5\, 5)\; font-size: 15px\;">Grab your family or bestie and head to Black Birch Books for a fun evening of snacks\, board games and movies!</div>\n\n<div class="x11i5rnm xat24cr x1mh8g0r x1vvkbs xtlvy1s" style="margin: 0.5em 0px 0px\; overflow-wrap: break-word\; font-family: &quot\;Segoe UI Historic&quot\;\, &quot\;Segoe UI&quot\;\, Helvetica\, Arial\, sans-serif\; color: rgb(5\, 5\, 5)\; font-size: 15px\;">*Some snacks will be provided. Bringing some to share is encouraged! *This event is FREE. Donations are always appreciated.</div>\n
LOCATION:Black Birch Books 2901 E. Bogard Rd. Wasilla\, AK 99654
UID:e.3185.21192
SEQUENCE:3
DTSTAMP:20260423T144350Z
URL:https://business.wasillachamber.org/events/details/family-hang-out-night-at-black-birch-books-21192
END:VEVENT

END:VCALENDAR
